BEGIN:VCALENDAR
VERSION:2.0
PRODID:-//生目の杜 遊古館 - ECPv5.8.1//NONSGML v1.0//EN
CALSCALE:GREGORIAN
METHOD:PUBLISH
X-WR-CALNAME:生目の杜 遊古館
X-ORIGINAL-URL:https://yukokan.miyabunkyo.com
X-WR-CALDESC:生目の杜 遊古館 のイベント
BEGIN:VTIMEZONE
TZID:Asia/Tokyo
BEGIN:STANDARD
TZOFFSETFROM:+0900
TZOFFSETTO:+0900
TZNAME:JST
DTSTART:20250101T000000
END:STANDARD
END:VTIMEZONE
BEGIN:VEVENT
DTSTART;TZID=Asia/Tokyo:20251115T100000
DTEND;TZID=Asia/Tokyo:20251115T160000
DTSTAMP:20260421T214510
CREATED:20251018T062226Z
LAST-MODIFIED:20251019T003418Z
UID:4936-1763200800-1763222400@yukokan.miyabunkyo.com
SUMMARY:◆生目の杜遊古館de歴史あそび
DESCRIPTION:＊＊＊＊＊＊＊＊＊＊＊＊＊＊＊＊＊＊＊＊＊＊＊＊＊＊＊＊＊＊ \n※スマートフォンの場合、画面の向きを横にして頂くと\nご覧になりやすくなります。 \n＊＊＊＊＊＊＊＊＊＊＊＊＊＊＊＊＊＊＊＊＊＊＊＊＊＊＊＊＊＊ \n宮崎市文化財課主催の国指定史跡”生目古墳群”にて開催される\n生目古墳群deピクニックに合わせ、当館でもミニイベント\n【生目の杜遊古館de歴史あそび】を開催します!! \nクイズスタンプラリーや勾玉づくり（※勾玉づくりのみ事前申込制）を実施♪ \n同日開催の「生目古墳群deピクニック（主催：宮崎市教育委員会文化財課）」も\n含めて、丸一日生目の杜遊古館で楽しみましょう！ \n※勾玉づくり(白・小)は事前申し込みが必要なプログラムとなっております。\n詳細・お申込みはhttps://yukokan.miyabunkyo.com/tribe_events/rekishiasobi-magatama/をご確認ください。 \n開催内容・チラシ\n※画像をクリックすると別ウィンドウで開きます。
URL:https://yukokan.miyabunkyo.com/tribe_events/rekishiasobi2025/
CATEGORIES:イベント
END:VEVENT
END:VCALENDAR