BEGIN:VCALENDAR
VERSION:2.0
PRODID:-//生目の杜 遊古館 - ECPv5.8.1//NONSGML v1.0//EN
CALSCALE:GREGORIAN
METHOD:PUBLISH
X-WR-CALNAME:生目の杜 遊古館
X-ORIGINAL-URL:https://yukokan.miyabunkyo.com
X-WR-CALDESC:生目の杜 遊古館 のイベント
BEGIN:VTIMEZONE
TZID:Asia/Tokyo
BEGIN:STANDARD
TZOFFSETFROM:+0900
TZOFFSETTO:+0900
TZNAME:JST
DTSTART:20200101T000000
END:STANDARD
END:VTIMEZONE
BEGIN:VEVENT
DTSTART;VALUE=DATE:20200906
DTEND;VALUE=DATE:20200907
DTSTAMP:20260423T021415
CREATED:20200904T234247Z
LAST-MODIFIED:20200904T234247Z
UID:453-1599350400-1599436799@yukokan.miyabunkyo.com
SUMMARY:臨時休館
DESCRIPTION:台風１０号の接近に伴い、本日は臨時休館いたします。
URL:https://yukokan.miyabunkyo.com/tribe_events/%e8%87%a8%e6%99%82%e4%bc%91%e9%a4%a8-2/
CATEGORIES:休館日
END:VEVENT
END:VCALENDAR