BEGIN:VCALENDAR
VERSION:2.0
PRODID:-//生目の杜 遊古館 - ECPv5.8.1//NONSGML v1.0//EN
CALSCALE:GREGORIAN
METHOD:PUBLISH
X-WR-CALNAME:生目の杜 遊古館
X-ORIGINAL-URL:https://yukokan.miyabunkyo.com
X-WR-CALDESC:生目の杜 遊古館 のイベント
BEGIN:VTIMEZONE
TZID:Asia/Tokyo
BEGIN:STANDARD
TZOFFSETFROM:+0900
TZOFFSETTO:+0900
TZNAME:JST
DTSTART:20200101T000000
END:STANDARD
END:VTIMEZONE
BEGIN:VEVENT
DTSTART;TZID=Asia/Tokyo:20200719T093000
DTEND;TZID=Asia/Tokyo:20200719T113000
DTSTAMP:20260423T162336
CREATED:20200528T060348Z
LAST-MODIFIED:20200625T082246Z
UID:315-1595151000-1595158200@yukokan.miyabunkyo.com
SUMMARY:史跡公園生き物採集教室
DESCRIPTION:大淀川学習館から講師をお迎えし、生目古墳群史跡公園内をめぐりながら、昆虫などの生き物を採集します。 一緒に自然や虫のいろんな不思議を探してみませんか♪ \n※エントリー受付を終了しました。 \n●日時：令和２年７月１９日（日）9:30～11:30　※天候等によっては中止する可能性があります。●対象：子ども（5歳～小学生）と保護者 ●定員：３０名●参加費：無料●準備物：虫かご・虫あみ・タオル・水筒・虫よけスプレー・帽子・長袖・長ズボン・長靴もしくは運動靴 \n \n＜お申込みについて＞\n※必ずページ下段の『各種講座へのお申し込みに関する注意』をご覧頂き、ご了承頂いた上でのお申込みをお願いします。 \n※スマートフォンの場合、画面の向きを横にして頂くとご覧になりやすくなります \n\n\n\n\n●この講座は抽選制となっております。 \n　　①申込期間：６月１９日（金）9:00～６月２５日（木）17:00 \n　　②当落について：抽選の上、６月３０日（火）以降にご連絡いたします。 \n●参加ご希望の方は当ホームページの申し込みフォームか、お電話・FAXにてお申し込みください。 \n※必ず住所・電話番号・お子様の学年（年齢）をお知らせください。 　メールフォームからのお申し込みの場合は受信可能なメールアドレスをご記入ください。　（当館よりエントリー受付完了のメールを返信致します）　連絡がつかない場合、キャンセルとなる場合がございますので、ご了承ください。 \n●団体でのお申し込みはお断りしております。 \n※上のメールフォーム記入例をご覧ください。（入力漏れのないようにお願いします。） \n画像をクリックすると拡大します。 \n\n\n\n\n各種講座へのお申し込みに関する注意\n各種講座へのお申込みに関する下の注意点を ご覧いただいた上でのお申し込みをお願いいたします。 \nみなさまのご理解とご協力をいただきますよう、どうぞよろしくお願いいたします。 \n\n\n\n\n　●事前申込制・抽選制の場合、ホームページのお申し込みフォームか、　　直接お電話・FAXにてお申し込みください。 \n　●開催１か月前の朝９時より受付しております。　　　→受付日午前９時以前のお申込みにつきましては、　　　　(HPメールフォーム・FAX・電話いずれも)公平を期すため、無効とさせて頂きます。 \n　●子ども向けの体験学習の場合、必ず保護者同伴でお願いします。 \n　●団体でのお申し込みはご遠慮ください。　　特に、子ども向けの体験学習の場合はご家族単位でお願いします。　　　→お子様のお友達と参加希望の場合でも、それぞれご家族ごとにお申込みください。　　　→抽選制の場合、お子様のお友達同士のご家族ごとにお申し込みいただいても、　　　　落選する可能性があります。 \n　●抽選制の場合、当ホームページ（行事案内）上やお申し込みの際にエントリー期間・　　当落発表方法についてお伝えしております。　　　→講座によって方法が変わりますので、ホームページやお電話にてご確認ください。 \n　●お申し込み受付開始当日は、電話回線が込み合っている場合がございます。 \n　●天候等の事情により、講座が中止または延期となる場合がございます。　　　→お電話のほか当ホームページ・Facebook等でお知らせいたします。
URL:https://yukokan.miyabunkyo.com/tribe_events/%e5%8f%b2%e8%b7%a1%e5%85%ac%e5%9c%92%e7%94%9f%e3%81%8d%e7%89%a9%e6%8e%a1%e9%9b%86%e6%95%99%e5%ae%a4/
CATEGORIES:イベント
END:VEVENT
END:VCALENDAR