BEGIN:VCALENDAR
VERSION:2.0
PRODID:-//生目の杜 遊古館 - ECPv5.8.1//NONSGML v1.0//EN
CALSCALE:GREGORIAN
METHOD:PUBLISH
X-WR-CALNAME:生目の杜 遊古館
X-ORIGINAL-URL:https://yukokan.miyabunkyo.com
X-WR-CALDESC:生目の杜 遊古館 のイベント
BEGIN:VTIMEZONE
TZID:Asia/Tokyo
BEGIN:STANDARD
TZOFFSETFROM:+0900
TZOFFSETTO:+0900
TZNAME:JST
DTSTART:20230101T000000
END:STANDARD
END:VTIMEZONE
BEGIN:VEVENT
DTSTART;TZID=Asia/Tokyo:20230513T100000
DTEND;TZID=Asia/Tokyo:20230513T113000
DTSTAMP:20260419T225511
CREATED:20230404T024539Z
LAST-MODIFIED:20230429T081724Z
UID:3210-1683972000-1683977400@yukokan.miyabunkyo.com
SUMMARY:◆古文書講座（初級編）①・開講式
DESCRIPTION:※スマートフォンの場合は、横向きにしてご覧ください。\n講師が講義形式でくずし字の読み方や内容を解説しながら古文書を解読します。\n令和５年度前期は、全３回の『初級編』となります。 \n※受付を終了しました。 \n※古文書講座（初級/中級編）のチラシはこちらをご覧ください。 \n※後期は『中級編』（全５回）の開催を予定しています。 \n＊＊＊＊＊＊＊＊＊＊＊＊＊＊＊＊＊＊＊＊ \n●日程：①５月１３日（土）　　　　②６月１０日（土）　　　　③７月８日（土）\n●時間：１０：００～１１：３０●対象：一般●定員：３０名 \n※テキスト代として500円を初回に頂戴いたします。※初回に開講式、最終回に閉講式を行います。 \n＊＊＊＊＊＊＊＊＊＊＊＊＊＊＊＊＊＊＊＊ \nなお、受講には事前にお申し込みが必要です。参加ご希望の方は当ホームページの申し込みフォームか、直接お電話・FAXにてお申し込みください。 \n※古文書講座初級へのお申し込み締切は　４月２９日（土・祝）までとなっています。 \n※応募者多数の場合は抽選となります。　抽選となった場合、当選者のみ郵送・メールにてご連絡いたします。　（電話・FAXでお申し込みの方へは郵送、メールフォームで　　お申し込み方へはメールでのご連絡になります。）
URL:https://yukokan.miyabunkyo.com/tribe_events/%e5%8f%a4%e6%96%87%e6%9b%b8%e8%ac%9b%e5%ba%a7%ef%bc%88%e5%88%9d%e7%b4%9a%e7%b7%a8%ef%bc%89%e2%91%a0%e3%83%bb%e9%96%8b%e8%ac%9b%e5%bc%8f/
CATEGORIES:古文書講座
END:VEVENT
END:VCALENDAR