BEGIN:VCALENDAR
VERSION:2.0
PRODID:-//生目の杜 遊古館 - ECPv5.8.1//NONSGML v1.0//EN
CALSCALE:GREGORIAN
METHOD:PUBLISH
X-WR-CALNAME:生目の杜 遊古館
X-ORIGINAL-URL:https://yukokan.miyabunkyo.com
X-WR-CALDESC:生目の杜 遊古館 のイベント
BEGIN:VTIMEZONE
TZID:Asia/Tokyo
BEGIN:STANDARD
TZOFFSETFROM:+0900
TZOFFSETTO:+0900
TZNAME:JST
DTSTART:20200101T000000
END:STANDARD
END:VTIMEZONE
BEGIN:VEVENT
DTSTART;TZID=Asia/Tokyo:20200808T100000
DTEND;TZID=Asia/Tokyo:20200808T233000
DTSTAMP:20260423T073809
CREATED:20200701T001708Z
LAST-MODIFIED:20200728T083813Z
UID:352-1596880800-1596929400@yukokan.miyabunkyo.com
SUMMARY:古文書講座③※延期します
DESCRIPTION:講師が講義形式で読み方や内容を解説しながら古文書を解読していきます。\n初心者でもわかりやすく解説・指導していきますので、お気軽にご参加ください。\n※８月８日（土）は臨時休館となったため、延期します。　延期開催日につきましては、決定次第ご参加者様にお知らせいたします。 \n●期日：①６月１３日（土）②７月１１日（土）③８月８日（土）　　　　④９月１２日（土）⑤１０月１０日（土）（全５回）\n●時間：１０：００～１１：３０●対象：一般●定員：３０名 \n※テキスト代として500円を頂戴いたします。\n※新型コロナウイルス感染拡大防止のため、開催が順延となる場合があります。※全５回の講座になりますが、途中からの参加も可能です。※応募者多数の場合は抽選となります。\n※初回に開講式を行います。 \n\nなお、受講には事前にお申し込みが必要です。参加ご希望の方は当ホームページの申し込みフォームか、直接お電話・FAXにてお申し込みください。１か月前から受付しております。 \n※スマートフォンの場合、画面の向きを横にして頂くとご覧になりやすくなります。
URL:https://yukokan.miyabunkyo.com/tribe_events/%e5%8f%a4%e6%96%87%e6%9b%b8%e8%ac%9b%e5%ba%a7%e2%91%a2/
CATEGORIES:古文書講座
END:VEVENT
END:VCALENDAR