BEGIN:VCALENDAR
VERSION:2.0
PRODID:-//生目の杜 遊古館 - ECPv5.8.1//NONSGML v1.0//EN
CALSCALE:GREGORIAN
METHOD:PUBLISH
X-WR-CALNAME:生目の杜 遊古館
X-ORIGINAL-URL:https://yukokan.miyabunkyo.com
X-WR-CALDESC:生目の杜 遊古館 のイベント
BEGIN:VTIMEZONE
TZID:Asia/Tokyo
BEGIN:STANDARD
TZOFFSETFROM:+0900
TZOFFSETTO:+0900
TZNAME:JST
DTSTART:20220101T000000
END:STANDARD
END:VTIMEZONE
BEGIN:VEVENT
DTSTART;VALUE=DATE:20221107
DTEND;VALUE=DATE:20221108
DTSTAMP:20260421T113312
CREATED:20221005T004312Z
LAST-MODIFIED:20221005T004314Z
UID:2657-1667779200-1667865599@yukokan.miyabunkyo.com
SUMMARY:休館日
DESCRIPTION:本日は休館日です。
URL:https://yukokan.miyabunkyo.com/tribe_events/%e4%bc%91%e9%a4%a8%e6%97%a5-114/
CATEGORIES:休館日
END:VEVENT
END:VCALENDAR