BEGIN:VCALENDAR
VERSION:2.0
PRODID:-//生目の杜 遊古館 - ECPv5.8.1//NONSGML v1.0//EN
CALSCALE:GREGORIAN
METHOD:PUBLISH
X-WR-CALNAME:生目の杜 遊古館
X-ORIGINAL-URL:https://yukokan.miyabunkyo.com
X-WR-CALDESC:生目の杜 遊古館 のイベント
BEGIN:VTIMEZONE
TZID:Asia/Tokyo
BEGIN:STANDARD
TZOFFSETFROM:+0900
TZOFFSETTO:+0900
TZNAME:JST
DTSTART:20210101T000000
END:STANDARD
END:VTIMEZONE
BEGIN:VEVENT
DTSTART;VALUE=DATE:20210209
DTEND;VALUE=DATE:20210210
DTSTAMP:20260424T164717
CREATED:20210127T025645Z
LAST-MODIFIED:20210127T025645Z
UID:645-1612828800-1612915199@yukokan.miyabunkyo.com
SUMMARY:企画展「文化人が歩いた宮崎」開始
DESCRIPTION:本日より3月14日（日）まで、企画展「文化人が歩いた宮崎」を開催します。\n詳細につきましては、企画展のページをご覧ください。
URL:https://yukokan.miyabunkyo.com/tribe_events/%e4%bc%81%e7%94%bb%e5%b1%95%e3%80%8c%e6%96%87%e5%8c%96%e4%ba%ba%e3%81%8c%e6%ad%a9%e3%81%84%e3%81%9f%e5%ae%ae%e5%b4%8e%e3%80%8d%e9%96%8b%e5%a7%8b/
END:VEVENT
END:VCALENDAR