BEGIN:VCALENDAR
VERSION:2.0
PRODID:-//生目の杜 遊古館 - ECPv5.8.1//NONSGML v1.0//EN
CALSCALE:GREGORIAN
METHOD:PUBLISH
X-WR-CALNAME:生目の杜 遊古館
X-ORIGINAL-URL:https://yukokan.miyabunkyo.com
X-WR-CALDESC:生目の杜 遊古館 のイベント
BEGIN:VTIMEZONE
TZID:Asia/Tokyo
BEGIN:STANDARD
TZOFFSETFROM:+0900
TZOFFSETTO:+0900
TZNAME:JST
DTSTART:20220101T000000
END:STANDARD
END:VTIMEZONE
BEGIN:VEVENT
DTSTART;VALUE=DATE:20221022
DTEND;VALUE=DATE:20221023
DTSTAMP:20260420T141627
CREATED:20221021T023604Z
LAST-MODIFIED:20221021T023704Z
UID:2737-1666396800-1666483199@yukokan.miyabunkyo.com
SUMMARY:◆企画展「ブック・ブック！-いろんな書物大集合-」開始
DESCRIPTION:本日から企画展「ブック・ブック！-いろんな書物大集合-」がスタート！\n江戸時代以降の各種和綴本や近代の教科書、雑誌・漫画のほか、\n宮崎市域の歴史に関連する本など、様々な「ブック」を展示・紹介します。\n読書の秋にちょっと昔の本たちに出会ってみませんか？ \n会期は12月4日（日）まで、入館・観覧は無料となっています。
URL:https://yukokan.miyabunkyo.com/tribe_events/%e4%bc%81%e7%94%bb%e5%b1%95%e3%80%8c%e3%83%96%e3%83%83%e3%82%af%e3%83%bb%e3%83%96%e3%83%83%e3%82%af%ef%bc%81-%e3%81%84%e3%82%8d%e3%82%93%e3%81%aa%e6%9b%b8%e7%89%a9%e5%a4%a7%e9%9b%86%e5%90%88-%e3%80%8d/
CATEGORIES:企画展
END:VEVENT
END:VCALENDAR