BEGIN:VCALENDAR
VERSION:2.0
PRODID:-//生目の杜 遊古館 - ECPv5.8.1//NONSGML v1.0//EN
CALSCALE:GREGORIAN
METHOD:PUBLISH
X-WR-CALNAME:生目の杜 遊古館
X-ORIGINAL-URL:https://yukokan.miyabunkyo.com
X-WR-CALDESC:生目の杜 遊古館 のイベント
BEGIN:VTIMEZONE
TZID:Asia/Tokyo
BEGIN:STANDARD
TZOFFSETFROM:+0900
TZOFFSETTO:+0900
TZNAME:JST
DTSTART:20200101T000000
END:STANDARD
END:VTIMEZONE
BEGIN:VEVENT
DTSTART;TZID=Asia/Tokyo:20200905T100000
DTEND;TZID=Asia/Tokyo:20200905T113000
DTSTAMP:20260423T035621
CREATED:20200711T053327Z
LAST-MODIFIED:20200711T053352Z
UID:375-1599300000-1599305400@yukokan.miyabunkyo.com
SUMMARY:ゆうこかん館長歴史余話
DESCRIPTION:当館館長による、面白くてためになる歴史文化講座です。\n※令和2年3月14日に開催予定でしたが、延期となった講座の開催となります。 \n●日　時：令和２年９月５日（土）１０：００～１１：３０\n●演　題：「江戸3百藩の軌跡」～幕末維新を振り返る～\n●講　師：永井 淳生（当館館長）\n●対　象：一般\n●定　員：５０名\n●参加費：無 料 \nお申し込みについて\n●３月１４日開催時に既にお申し込みの方を優先とし、定員を超える場合は抽選となります。\n●電話（0985-47-8001）・FAX（0985-47-8202）・メールフォームからお申し込みください。\n●お申し込み受付は開催２週間前の土曜日（8月22日（土））までです。 \nなお、これからの令和２年度歴史文化講座の開催予定につきましては、こちらをご覧ください。
URL:https://yukokan.miyabunkyo.com/tribe_events/%e3%82%86%e3%81%86%e3%81%93%e3%81%8b%e3%82%93%e9%a4%a8%e9%95%b7%e6%ad%b4%e5%8f%b2%e4%bd%99%e8%a9%b1/
CATEGORIES:歴史文化講座
END:VEVENT
END:VCALENDAR