BEGIN:VCALENDAR
VERSION:2.0
PRODID:-//生目の杜 遊古館 - ECPv5.8.1//NONSGML v1.0//EN
CALSCALE:GREGORIAN
METHOD:PUBLISH
X-WR-CALNAME:生目の杜 遊古館
X-ORIGINAL-URL:https://yukokan.miyabunkyo.com
X-WR-CALDESC:生目の杜 遊古館 のイベント
BEGIN:VTIMEZONE
TZID:Asia/Tokyo
BEGIN:STANDARD
TZOFFSETFROM:+0900
TZOFFSETTO:+0900
TZNAME:JST
DTSTART:20250101T000000
END:STANDARD
END:VTIMEZONE
BEGIN:VEVENT
DTSTART;TZID=Asia/Tokyo:20250111T150000
DTEND;TZID=Asia/Tokyo:20250111T200000
DTSTAMP:20260420T070057
CREATED:20241201T062200Z
LAST-MODIFIED:20241220T082935Z
UID:5213-1736607600-1736625600@yukokan.miyabunkyo.com
SUMMARY:◆遊古館デイキャンプ（星空観望編）※受付終了
DESCRIPTION:＊＊＊＊＊＊＊＊＊＊＊＊＊＊＊＊＊＊＊＊＊＊＊＊＊＊＊＊＊＊ \n※スマートフォンの場合、画面の向きを横にして頂くと\n　ご覧になりやすくなります。 \n＊＊＊＊＊＊＊＊＊＊＊＊＊＊＊＊＊＊＊＊＊＊＊＊＊＊＊＊＊＊ \n火おこし体験や飯盒炊爨（炊飯）、カレー作りのほか、夜は宮崎科学技術館の協力のもと星空観望会を行います。 \n※受付を終了しました \n●日　時：令和７年１月１１日（土） \n●時　間：15:00～20:00（予定） \n●対　象・定員：子ども（小学生以上）と保護者　３０名 \n●参加費：１名５００円 \n●備　考：悪天候の場合、星空観望を室内での解説等に　　　　　変更する場合があります。 \n\n\n＜お申込みについて＞\n※必ず下のお申し込みに関する注意をご覧頂き、ご了承頂いた上でのお申し込みをお願いします。 \n\n\n\n\n●この講座は抽選制となっております。 \n　①申込期間：１２月１１日（水）9:00～１２月２０日（金）17:00 \n　②当落について：当選者のみメールで通知いたします。 \n●参加ご希望の方は当ホームページのメールフォームにて　お申し込みください。 \n　※必ず住所・電話番号・お子様の学年（年齢）をお知らせください。 \n　※落選の場合はご連絡いたしませんのでご了承ください。 \n　※キャリアメールでのお申し込み場合、　　　　　　　　　　　　　\n　　当選通知メールが届かない場合がございます。　　　　　　　　　　　もし、開催一週間前までに通知が無く、当落が分からない場合は、　　お手数ですが、お電話にてお問い合わせください。　　　　　　　 \n\n●団体でのお申し込みはお断りしております。 \n※上のメールフォーム記入例をご覧ください。（入力漏れのないようにお願いします。） \n画像をクリックすると拡大します。
URL:https://yukokan.miyabunkyo.com/tribe_events/%e2%97%86%e9%81%8a%e5%8f%a4%e9%a4%a8%e3%83%87%e3%82%a4%e3%82%ad%e3%83%a3%e3%83%b3%e3%83%97%ef%bc%88%e6%98%9f%e7%a9%ba%e8%a6%b3%e6%9c%9b%e7%b7%a8%ef%bc%89-2/
CATEGORIES:イベント
END:VEVENT
END:VCALENDAR