BEGIN:VCALENDAR
VERSION:2.0
PRODID:-//生目の杜 遊古館 - ECPv5.8.1//NONSGML v1.0//EN
CALSCALE:GREGORIAN
METHOD:PUBLISH
X-WR-CALNAME:生目の杜 遊古館
X-ORIGINAL-URL:https://yukokan.miyabunkyo.com
X-WR-CALDESC:生目の杜 遊古館 のイベント
BEGIN:VTIMEZONE
TZID:Asia/Tokyo
BEGIN:STANDARD
TZOFFSETFROM:+0900
TZOFFSETTO:+0900
TZNAME:JST
DTSTART:20250101T000000
END:STANDARD
END:VTIMEZONE
BEGIN:VEVENT
DTSTART;TZID=Asia/Tokyo:20250921T090000
DTEND;TZID=Asia/Tokyo:20250921T160000
DTSTAMP:20260420T203739
CREATED:20250810T042217Z
LAST-MODIFIED:20250810T042217Z
UID:6146-1758445200-1758470400@yukokan.miyabunkyo.com
SUMMARY:◆昔の遊び体験（奇数月第3日曜開催）
DESCRIPTION:※スマートフォンの場合は画面を横にしてご覧ください。\n本日９月２１日（日）、『昔の遊び体験コーナー』を設置します！\n外では竹馬や竹ぽっくり、埋蔵文化財センターエントランスでは、\n竹のけん玉遊びやかるた、だるま落としやおじゃみなど、\n無料で遊ぶことができますよ♪ \n\n詳細は当館SNS（Instagram・Facebook）をご覧ください。\nぜひ、みなさんで遊びにいらしてください♪ \n\n※昔の遊び体験は、今年度奇数月の第３日曜日に開催します。\n今後もこちらの行事カレンダーにてご案内しますので、ぜひ、チェックしてみてくださいね。 \n\n昔のおもちゃ \n竹馬 \n竹ぽっくり
URL:https://yukokan.miyabunkyo.com/tribe_events/%e2%97%86%e6%98%94%e3%81%ae%e9%81%8a%e3%81%b3%e4%bd%93%e9%a8%93%ef%bc%88%e5%a5%87%e6%95%b0%e6%9c%88%e7%ac%ac3%e6%97%a5%e6%9b%9c%e9%96%8b%e5%82%ac%ef%bc%89-2/
CATEGORIES:イベント
END:VEVENT
END:VCALENDAR