BEGIN:VCALENDAR
VERSION:2.0
PRODID:-//生目の杜 遊古館 - ECPv5.8.1//NONSGML v1.0//EN
CALSCALE:GREGORIAN
METHOD:PUBLISH
X-WR-CALNAME:生目の杜 遊古館
X-ORIGINAL-URL:https://yukokan.miyabunkyo.com
X-WR-CALDESC:生目の杜 遊古館 のイベント
BEGIN:VTIMEZONE
TZID:Asia/Tokyo
BEGIN:STANDARD
TZOFFSETFROM:+0900
TZOFFSETTO:+0900
TZNAME:JST
DTSTART:20250101T000000
END:STANDARD
END:VTIMEZONE
BEGIN:VEVENT
DTSTART;TZID=Asia/Tokyo:20250824T133000
DTEND;TZID=Asia/Tokyo:20250824T153000
DTSTAMP:20260422T180039
CREATED:20250726T000908Z
LAST-MODIFIED:20250820T083602Z
UID:6067-1756042200-1756049400@yukokan.miyabunkyo.com
SUMMARY:◆日本舞踊×茶道in遊古館＜受付終了＞
DESCRIPTION:＊＊＊＊＊＊＊＊＊＊＊＊＊＊＊＊＊＊＊＊＊＊＊＊＊＊＊＊＊＊ \n※スマートフォンの場合、画面の向きを横にして頂くと\n　ご覧になりやすくなります。 \n＊＊＊＊＊＊＊＊＊＊＊＊＊＊＊＊＊＊＊＊＊＊＊＊＊＊＊＊＊＊ \n「日本文化」と聞いて、みなさんは何を思い浮かべますか？\nこの夏、遊古館にて気軽に日本文化を体験できるイベントを開催します。 \n内容としては、日本舞踊と茶道それぞれに講師をお呼びして、\n日本舞踊の観賞（解説付）や、お抹茶・お菓子を楽しみながら作法を学ぶ\n日本文化に親しむプログラムとなっています。 \n最後には、別講座にて指導を受けた『Let’s！タイムワープin遊古館』参加者の\n子どもたちによる日本舞踊お披露目会も実施！ \n日本の伝統文化を気軽に楽しく体験し、\n日本文化好きへの第一歩を踏み出してみませんか？ \n※受付を終了しました \n＊＊＊＊＊＊＊＊＊＊＊＊＊＊＊＊＊＊＊＊＊＊＊＊＊＊＊＊＊＊ \n●日時：令和７年８月２４日（日）１３：３０～１５：３０ \n●場所：宮崎市生目の杜遊古館　体験学習棟 \n●対象：どなたでも（子どもは保護者同伴） \n●参加費：１人３００円 \n●定員：２０名 \n●チラシ\n※クリックすると拡大します。 \n＜お申込みについて＞\n※必ずページ下段の『各種講座へのお申し込みに関する注意』を　ご覧頂き、ご了承頂いた上でのお申込みをお願いします。 \n\n\n\n\n●この講座は事前申込制（応募者多数の場合は抽選）です。 \n　①申込期間：７月２７日（日）9:00～８月２０日（水）17:00 \n　②当落について：当選者のみメールで通知いたします。　　　　　　　　　※抽選とならなかった場合は、お申込者様へ　　　　　　　　　　当日のご案内メールをお送りいたします。 \n●参加ご希望の方は当ホームページのメールフォームにて　お申し込みください。 \n　※必ず住所・電話番号・お子様の学年を　　お知らせください。 \n　※落選の場合はご連絡いたしませんのでご了承ください。 \n　※キャリアメールでのお申し込み場合、　　　　　　　　　　　　　\n　　当選通知メールが届かない場合がございます。　　　　　　　　　　　もし、開催一週間前までに通知が無く、当落が分からない場合は、　　お手数ですが、お電話にてお問い合わせください。　　　　　　　 \n●団体でのお申し込みはお断りしております。 \n※上のメールフォーム記入例をご覧ください。（入力漏れのないようにお願いします。） \n画像をクリックすると拡大します。
URL:https://yukokan.miyabunkyo.com/tribe_events/%e2%97%86%e6%97%a5%e6%9c%ac%e8%88%9e%e8%b8%8ax%e8%8c%b6%e9%81%93in%e9%81%8a%e5%8f%a4%e9%a4%a8/
CATEGORIES:イベント
END:VEVENT
END:VCALENDAR