BEGIN:VCALENDAR
VERSION:2.0
PRODID:-//生目の杜 遊古館 - ECPv5.8.1//NONSGML v1.0//EN
CALSCALE:GREGORIAN
METHOD:PUBLISH
X-WR-CALNAME:生目の杜 遊古館
X-ORIGINAL-URL:https://yukokan.miyabunkyo.com
X-WR-CALDESC:生目の杜 遊古館 のイベント
BEGIN:VTIMEZONE
TZID:Asia/Tokyo
BEGIN:STANDARD
TZOFFSETFROM:+0900
TZOFFSETTO:+0900
TZNAME:JST
DTSTART:20250101T000000
END:STANDARD
END:VTIMEZONE
BEGIN:VEVENT
DTSTART;TZID=Asia/Tokyo:20250721T133000
DTEND;TZID=Asia/Tokyo:20250721T160000
DTSTAMP:20260420T174400
CREATED:20250524T055535Z
LAST-MODIFIED:20250707T081522Z
UID:5860-1753104600-1753113600@yukokan.miyabunkyo.com
SUMMARY:◆体験！古代の編布（アンギン）※受付終了
DESCRIPTION:＊＊＊＊＊＊＊＊＊＊＊＊＊＊＊＊＊＊＊＊＊＊＊＊＊＊＊＊＊＊ \n※スマートフォンの場合、画面の向きを横にして頂くと\n　ご覧になりやすくなります。 \n＊＊＊＊＊＊＊＊＊＊＊＊＊＊＊＊＊＊＊＊＊＊＊＊＊＊＊＊＊＊ \n縄文時代の布づくり「アンギン」でコースターを作ります。 \n※受付を終了しました。 \n＊＊＊＊＊＊＊＊＊＊＊＊＊＊＊＊＊＊＊＊＊＊＊＊＊＊＊＊＊＊ \n●日　時：令和７年７月２１日（月・祝）13:30～16:00 \n●対　象：小学３年生以上のこども（保護者同伴）・一般 \n●定　員：２０名 \n●参加費：１人２００円 \n●備　考：天候等によって延期・中止となる可能性があります。 \n※画像は作例です。 \n＜お申込みについて＞\n※必ずページ下段の『各種講座へのお申し込みに関する注意』を　ご覧頂き、ご了承頂いた上でのお申込みをお願いします。 \n\n\n\n\n●この講座は抽選制となっております。 \n　①申込期間：６月２１日（土）9:00～３０日（月）17:00　※7/7（月）まで延長 \n　②当落について：当選者のみメールで通知いたします。 \n●参加ご希望の方は当ホームページのメールフォームにて　お申し込みください。 \n　※必ず住所・電話番号・お子様の学年および　　・保護者の方も製作される場合は、その人数をお知らせください。 \n　※落選の場合はご連絡いたしませんのでご了承ください。 \n　※キャリアメールでのお申し込み場合、　　　　　　　　　　　　　\n　　当選通知メールが届かない場合がございます。　　　　　　　　　　　もし、開催一週間前までに通知が無く、当落が分からない場合は、　　お手数ですが、お電話にてお問い合わせください。　　　　　　　 \n●団体でのお申し込みはお断りしております。 \n※上のメールフォーム記入例をご覧ください。（入力漏れのないようにお願いします。） \n画像をクリックすると拡大します。
URL:https://yukokan.miyabunkyo.com/tribe_events/%e2%97%86%e4%bd%93%e9%a8%93%ef%bc%81%e5%8f%a4%e4%bb%a3%e3%81%ae%e7%b7%a8%e5%b8%83%ef%bc%88%e3%82%a2%e3%83%b3%e3%82%ae%e3%83%b3%ef%bc%89/
CATEGORIES:体験学習
END:VEVENT
END:VCALENDAR