BEGIN:VCALENDAR
VERSION:2.0
PRODID:-//生目の杜 遊古館 - ECPv5.8.1//NONSGML v1.0//EN
CALSCALE:GREGORIAN
METHOD:PUBLISH
X-WR-CALNAME:生目の杜 遊古館
X-ORIGINAL-URL:https://yukokan.miyabunkyo.com
X-WR-CALDESC:生目の杜 遊古館 のイベント
BEGIN:VTIMEZONE
TZID:Asia/Tokyo
BEGIN:STANDARD
TZOFFSETFROM:+0900
TZOFFSETTO:+0900
TZNAME:JST
DTSTART:20220101T000000
END:STANDARD
END:VTIMEZONE
BEGIN:VEVENT
DTSTART;TZID=Asia/Tokyo:20221111T133000
DTEND;TZID=Asia/Tokyo:20221111T153000
DTSTAMP:20260421T130250
CREATED:20221005T005713Z
LAST-MODIFIED:20221020T232646Z
UID:2679-1668173400-1668180600@yukokan.miyabunkyo.com
SUMMARY:◆わくわく学芸員講座③【折り紙の提げものづくり】
DESCRIPTION:＊＊＊＊＊＊＊＊＊＊＊＊＊＊＊＊＊＊＊＊＊＊＊＊＊＊＊＊＊＊＊＊ \n※スマートフォンの場合は画面を横向きにしてご覧ください。\n＊＊＊＊＊＊＊＊＊＊＊＊＊＊＊＊＊＊＊＊＊＊＊＊＊＊＊＊＊＊＊＊ \n歴史にまつわる小物づくりをするシリーズその③になります。\n様々な折り方の折り紙飾りで提げものを作ります。 \n※受付を終了しました。 \n●日　時：令和４年１１月１１日（金）１３：３０～１５：３０\n●対　象：一般\n●定　員：１５名\n●参加費：５００円（１名につき１セット製作として）\n●備　考：新型コロナウイルス感染症に関する状況によっては\n　　　　　開催延期となる可能性があります。  \n＜お申込みについて＞\n※必ずページ下段の『各種講座へのお申し込みに関する注意』を　ご覧頂き、ご了承頂いた上でのお申込みをお願いします。 \n\n\n\n\n●この講座は抽選制となっております。 \n　①申込期間：１０月１１日（火）9:00～１０月２０日（木）17:00 \n　②当落について：当選者のみハガキにてご連絡いたします。 \n●参加ご希望の方は当ホームページのメールフォームか、　お電話・FAXにてお申し込みください。 \n　※必ず住所・電話番号をお知らせください。 \n　※メールフォームからのお申し込みの場合は、　　当館よりエントリー受付完了のメールを返信致します。 \n　※キャリアメールでのお申し込み場合、　　　　　　　　　　受付完了のメールが届かない場合がございます。　　　　　もし、一両日中に受付完了のメールが届かない場合は、　　お手数ですが、お電話にてお問い合わせください。　　 \n\n●団体でのお申し込みはお断りしております。 \n※上のメールフォーム記入例をご覧ください。（入力漏れのないようにお願いします。） \n画像をクリックすると拡大します。 \n\n\n\n\n各種講座へのお申し込みに関する注意\n各種講座へのお申込みに関する下の注意点をご覧いただいた上でのお申し込みをお願いいたします。 \n\n\n\n\n●事前申込制・抽選制の場合、ホームページのお申し込みフォームか、　直接お電話・FAXにてお申し込みください。 \n●開催１か月前の朝９時より受付しております。　→受付日午前９時以前のお申込みにつきましては、　　公平を期すため無効となります。 \n●子ども向けの体験学習の場合、必ず保護者同伴となります。 \n●団体でのお申し込みはご遠慮ください。　特に、体験学習の場合はご家族単位でお願いします。　 →お子様のお友達と参加希望の場合でも、　　それぞれご家族ごとにお申込みください。　 →抽選の場合、お子様のお友達同士のご家族ごとに　　お申し込みいただいても、落選する可能性があります。 \n●抽選制の場合、当ホームページ（カレンダー）上やお申し込みの際に　エントリー期間・当落発表方法についてお伝えしております。 \n●申込受付開始当日は、電話回線が込み合っている場合がございます。 \n●新型コロナウイルス感染症に関する状況や、天候等の事情により、　講座が中止または延期となる場合がございます。　その場合は、適時ホームページ上でお知らせいたします。
URL:https://yukokan.miyabunkyo.com/tribe_events/%e2%97%86%e3%82%8f%e3%81%8f%e3%82%8f%e3%81%8f%e5%ad%a6%e8%8a%b8%e5%93%a1%e8%ac%9b%e5%ba%a7%e2%91%a2%e3%80%90%e6%8a%98%e3%82%8a%e7%b4%99%e3%81%ae%e6%8f%90%e3%81%92%e3%82%82%e3%81%ae%e3%81%a5%e3%81%8f/
CATEGORIES:イベント
END:VEVENT
END:VCALENDAR