BEGIN:VCALENDAR
VERSION:2.0
PRODID:-//生目の杜 遊古館 - ECPv5.8.1//NONSGML v1.0//EN
CALSCALE:GREGORIAN
METHOD:PUBLISH
X-WR-CALNAME:生目の杜 遊古館
X-ORIGINAL-URL:https://yukokan.miyabunkyo.com
X-WR-CALDESC:生目の杜 遊古館 のイベント
BEGIN:VTIMEZONE
TZID:Asia/Tokyo
BEGIN:STANDARD
TZOFFSETFROM:+0900
TZOFFSETTO:+0900
TZNAME:JST
DTSTART:20260101T000000
END:STANDARD
END:VTIMEZONE
BEGIN:VEVENT
DTSTART;TZID=Asia/Tokyo:20260125T103000
DTEND;TZID=Asia/Tokyo:20260125T160000
DTSTAMP:20260421T214223
CREATED:20251124T022412Z
LAST-MODIFIED:20251124T022413Z
UID:6655-1769337000-1769356800@yukokan.miyabunkyo.com
SUMMARY:◇古代体験プログラムはありません
DESCRIPTION:本日は古代体験プログラムはありません。
URL:https://yukokan.miyabunkyo.com/tribe_events/%e2%97%87%e5%8f%a4%e4%bb%a3%e4%bd%93%e9%a8%93%e3%83%97%e3%83%ad%e3%82%b0%e3%83%a9%e3%83%a0%e3%81%af%e3%81%82%e3%82%8a%e3%81%be%e3%81%9b%e3%82%93-52/
CATEGORIES:イベント
END:VEVENT
BEGIN:VEVENT
DTSTART;TZID=Asia/Tokyo:20260125T133000
DTEND;TZID=Asia/Tokyo:20260125T153000
DTSTAMP:20260421T214223
CREATED:20251124T021949Z
LAST-MODIFIED:20260119T003559Z
UID:6649-1769347800-1769355000@yukokan.miyabunkyo.com
SUMMARY:◆マイ竹馬であそびましょ！※受付終了
DESCRIPTION:  \n\n\n\n＊＊＊＊＊＊＊＊＊＊＊＊＊＊＊＊＊＊＊＊＊＊＊＊＊＊＊＊＊＊ \n※スマートフォンの場合、画面の向きを横にして頂くと　ご覧になりやすくなります。 \n＊＊＊＊＊＊＊＊＊＊＊＊＊＊＊＊＊＊＊＊＊＊＊＊＊＊＊＊＊＊ \n身近にある素材「竹」を使った、昔ながらの子どもの遊び道具「竹馬」を作って遊びましょう♪ \n受付を終了しました。 \n＊＊＊＊＊＊＊＊＊＊＊＊＊＊＊＊＊＊＊＊＊＊＊＊＊＊＊＊＊＊ \n●日時：令和８年１月２５日（日） \n●時間：13:30～15:30 \n●対象・定員：子ども（小学３年生以上）と保護者　１５組 \n●参加費：１組５００円　※１組につき１セット（２本）のみの製作 \n \n＜お申込みについて＞\n※必ずページ下段の『各種講座へのお申し込みに関する注意』を　ご覧頂き、ご了承頂いた上でのお申込みをお願いします。 \n\n\n\n\n●この講座は先着制となっております。 \n　①申込期間：１２月２５日（木）9:00～１月３日（土）17:001/18(日)まで延長 \n　②当落について：当選者のみメールで通知いたします。 \n●参加ご希望の方は当ホームページのメールフォームにて　お申し込みください。（下のバナーをクリック！） \n \n　※必ず住所・電話番号・お子さまの年齢（学年）・　　対象となる参加者様全員の氏名をお知らせください。 \n　※落選の場合はご連絡いたしませんのでご了承ください。 \n　※キャリアメールでのお申し込み場合、　　　　　　　　　　　　　　　当選通知メールが届かない場合がございます。　　　　　　　　　　　もし、開催一週間前までに通知が無く、当落が分からない場合は、　　お手数ですが、お電話にてお問い合わせください。　　　　　　　 \n●団体でのお申し込みはお断りしております。 \n※上のメールフォーム記入例をご覧ください。（入力漏れのないようにお願いします。） \n画像をクリックすると拡大します。
URL:https://yukokan.miyabunkyo.com/tribe_events/takeumaasobor7/
CATEGORIES:体験学習
END:VEVENT
END:VCALENDAR