BEGIN:VCALENDAR
VERSION:2.0
PRODID:-//生目の杜 遊古館 - ECPv5.8.1//NONSGML v1.0//EN
CALSCALE:GREGORIAN
METHOD:PUBLISH
X-WR-CALNAME:生目の杜 遊古館
X-ORIGINAL-URL:https://yukokan.miyabunkyo.com
X-WR-CALDESC:生目の杜 遊古館 のイベント
BEGIN:VTIMEZONE
TZID:Asia/Tokyo
BEGIN:STANDARD
TZOFFSETFROM:+0900
TZOFFSETTO:+0900
TZNAME:JST
DTSTART:20260101T000000
END:STANDARD
END:VTIMEZONE
BEGIN:VEVENT
DTSTART;TZID=Asia/Tokyo:20260124T090000
DTEND;TZID=Asia/Tokyo:20260124T163000
DTSTAMP:20260421T214227
CREATED:20260106T023752Z
LAST-MODIFIED:20260107T080806Z
UID:6888-1769245200-1769272200@yukokan.miyabunkyo.com
SUMMARY:◆企画展「武士の日常」開始（～3/8）
DESCRIPTION:※スマートフォンの場合は、画面を横向きにしてご覧ください。 \n時代劇などにも必ず登場する「武士」。 \nある意味身近な存在ですが、彼らは普段、どのような日々を送っていたのでしょうか。\n今回は、現在の宮崎市やその周辺に住んでいた武士たち\n特に佐土原藩や高岡郷（鹿児島藩の外城）の武士たちについて取り上げ、彼らの日常に迫ります。 \n詳細はコチラをご覧ください。
URL:https://yukokan.miyabunkyo.com/tribe_events/%e4%bc%81%e7%94%bb%e5%b1%95%e3%80%8c%e6%ad%a6%e5%a3%ab%e3%81%ae%e6%97%a5%e5%b8%b8-%e3%81%bf%e3%82%84%e3%81%96%e3%81%8d%e3%81%ae%e5%9c%b0%e3%81%ab%e7%94%9f%e3%81%8d%e3%81%9f%e6%ad%a6%e5%a3%ab%e3%81%9f/
CATEGORIES:企画展
END:VEVENT
BEGIN:VEVENT
DTSTART;TZID=Asia/Tokyo:20260124T100000
DTEND;TZID=Asia/Tokyo:20260124T113000
DTSTAMP:20260421T214227
CREATED:20251124T020500Z
LAST-MODIFIED:20251124T020500Z
UID:6638-1769248800-1769254200@yukokan.miyabunkyo.com
SUMMARY:◆みんなの考古学講座⑤
DESCRIPTION:※スマートフォンの場合は画面を横向きにしてご覧ください。\n＊＊＊＊＊＊＊＊＊＊＊＊＊＊＊＊＊＊＊＊＊＊＊＊＊＊＊＊＊＊＊＊ \n「宮崎市の文化財スペシャリストたちが語る”今推し”の考古ネタ」をテーマに、宮崎市文化財課職員にお話しをして頂きます。 \n※前期開催分の講座日程や詳細についてはこちらをご覧ください。 \n＊＊＊＊＊＊＊＊＊＊＊＊＊＊＊＊＊＊＊＊＊＊＊＊＊＊＊＊＊＊＊＊ \n●日　時：令和８年１月２４日（土）１０：００～１１：３０\n●演　題：「縄文時代の交流史～気候変動とヒトの動き～」\n●講　師：宮崎市文化財課　副主幹　金丸 武司　氏\n●対　象：一般\n●定　員：７０名（先着）\n●参加費：無 料\n●備　考：天候その他の事情によって中止・延期する場合があります。 \nお申し込みについて\n●先着順となります。（定員となり次第受付終了）　　※案内や通知はお送りしませんのでご注意ください。\n●電話（0985-47-8001）・FAX（0985-47-8202）・　メールフォームからお申し込みください。\n●メールフォーム・FAXにてお申し込みの場合は、　必ず希望する講座の日にちとタイトルをご記入ください。
URL:https://yukokan.miyabunkyo.com/tribe_events/%e2%97%86%e3%81%bf%e3%82%93%e3%81%aa%e3%81%ae%e8%80%83%e5%8f%a4%e5%ad%a6%e8%ac%9b%e5%ba%a7%e2%91%a4-4/
CATEGORIES:歴史文化講座
END:VEVENT
BEGIN:VEVENT
DTSTART;TZID=Asia/Tokyo:20260124T103000
DTEND;TZID=Asia/Tokyo:20260124T160000
DTSTAMP:20260421T214227
CREATED:20251209T014551Z
LAST-MODIFIED:20251209T014551Z
UID:6698-1769250600-1769270400@yukokan.miyabunkyo.com
SUMMARY:◆古代体験プログラム
DESCRIPTION:※スマートフォンの場合は画面を横にしてご覧ください。\n【2024.4.1改正】 \n土曜・日曜・祝日に限り、個人の来館者様向けの【古代体験プログラム】を実施しています。 \n●来館前の事前お申し込みは必要ありません。　当日の受付時間を下でご確認頂き、受付までお越しください。 \n●イベント等との兼ね合いによって体験プログラムを開催しない日が　あるほか、午前もしくは午後にしか実施しない場合や、実施内容が　変更となる場合がありますので、　開催の有無等については【カレンダー】をご確認頂くか、　当日に電話にてお問い合わせください。 \n古代体験プログラムチラシ\n画像をクリックすると、別タブで開きます。
URL:https://yukokan.miyabunkyo.com/tribe_events/%e2%97%86%e5%8f%a4%e4%bb%a3%e4%bd%93%e9%a8%93%e3%83%97%e3%83%ad%e3%82%b0%e3%83%a9%e3%83%a0-104/
CATEGORIES:イベント
END:VEVENT
END:VCALENDAR