BEGIN:VCALENDAR
VERSION:2.0
PRODID:-//生目の杜 遊古館 - ECPv5.8.1//NONSGML v1.0//EN
CALSCALE:GREGORIAN
METHOD:PUBLISH
X-WR-CALNAME:生目の杜 遊古館
X-ORIGINAL-URL:https://yukokan.miyabunkyo.com
X-WR-CALDESC:生目の杜 遊古館 のイベント
BEGIN:VTIMEZONE
TZID:Asia/Tokyo
BEGIN:STANDARD
TZOFFSETFROM:+0900
TZOFFSETTO:+0900
TZNAME:JST
DTSTART:20260101T000000
END:STANDARD
END:VTIMEZONE
BEGIN:VEVENT
DTSTART;TZID=Asia/Tokyo:20260112T100000
DTEND;TZID=Asia/Tokyo:20260112T133000
DTSTAMP:20260421T232118
CREATED:20251124T025642Z
LAST-MODIFIED:20251223T024920Z
UID:6658-1768212000-1768224600@yukokan.miyabunkyo.com
SUMMARY:◆遊古館デイキャンプ（冬）　※受付終了
DESCRIPTION:＊＊＊＊＊＊＊＊＊＊＊＊＊＊＊＊＊＊＊＊＊＊＊＊＊＊＊＊＊＊ \n※スマートフォンの場合、画面の向きを横にして頂くと\n　ご覧になりやすくなります。 \n＊＊＊＊＊＊＊＊＊＊＊＊＊＊＊＊＊＊＊＊＊＊＊＊＊＊＊＊＊＊ \nいろんな謎を解いたり体験をしたりする館内ウォークラリーや\n火おこしや飯盒炊飯、カレー作りなどなど…\n冬も遊古館で楽しく学んで遊ぼう！ \n※受付を終了しました。 \n＊＊＊＊＊＊＊＊＊＊＊＊＊＊＊＊＊＊＊＊＊＊＊＊＊＊＊＊＊＊ \n●日　時：令和８年１月１２日（月・祝）10:00～13:30 \n●対　象：子ども（小学生以上）と保護者 \n●定　員：３０名 \n●参加費：１名につき５００円 \n●備　考：天候等によって延期・中止となる可能性があります。 \n \n＜お申込みについて＞\n※必ずページ下段の『各種講座へのお申し込みに関する注意』を　ご覧頂き、ご了承頂いた上でのお申込みをお願いします。 \n\n\n\n\n●この講座は抽選制となっております。 \n　①申込期間：１２月１２日（金）9:00～２１日（日）17:00 \n　②当落について：当選者のみメールで通知いたします。 \n●参加ご希望の方は当ホームページのメールフォームにて　お申し込みください。（下のバナーをクリック！） \n \n　※必ず住所・電話番号・お子さまの年齢（学年）・　　対象となる参加者様全員の氏名をお知らせください。 \n　※落選の場合はご連絡いたしませんのでご了承ください。 \n　※キャリアメールでのお申し込み場合、　　　　　　　　　　　　　\n　　当選通知メールが届かない場合がございます。　　　　　　　　　　　もし、開催一週間前までに通知が無く、当落が分からない場合は、　　お手数ですが、お電話にてお問い合わせください。　　　　　　　 \n\n●団体でのお申し込みはお断りしております。 \n※上のメールフォーム記入例をご覧ください。（入力漏れのないようにお願いします。） \n画像をクリックすると拡大します。
URL:https://yukokan.miyabunkyo.com/tribe_events/%e2%97%87%e9%81%8a%e5%8f%a4%e9%a4%a8%e3%83%87%e3%82%a4%e3%82%ad%e3%83%a3%e3%83%b3%e3%83%97%ef%bc%88%e5%86%ac%ef%bc%89/
CATEGORIES:イベント
END:VEVENT
BEGIN:VEVENT
DTSTART;TZID=Asia/Tokyo:20260112T103000
DTEND;TZID=Asia/Tokyo:20260112T160000
DTSTAMP:20260421T232118
CREATED:20251124T042115Z
LAST-MODIFIED:20251124T042117Z
UID:6665-1768213800-1768233600@yukokan.miyabunkyo.com
SUMMARY:◇古代体験プログラムはありません
DESCRIPTION:本日は古代体験プログラムはありません。
URL:https://yukokan.miyabunkyo.com/tribe_events/%e2%97%87%e5%8f%a4%e4%bb%a3%e4%bd%93%e9%a8%93%e3%83%97%e3%83%ad%e3%82%b0%e3%83%a9%e3%83%a0%e3%81%af%e3%81%82%e3%82%8a%e3%81%be%e3%81%9b%e3%82%93-53/
CATEGORIES:イベント
END:VEVENT
END:VCALENDAR