BEGIN:VCALENDAR
VERSION:2.0
PRODID:-//生目の杜 遊古館 - ECPv5.8.1//NONSGML v1.0//EN
CALSCALE:GREGORIAN
METHOD:PUBLISH
X-WR-CALNAME:生目の杜 遊古館
X-ORIGINAL-URL:https://yukokan.miyabunkyo.com
X-WR-CALDESC:生目の杜 遊古館 のイベント
BEGIN:VTIMEZONE
TZID:Asia/Tokyo
BEGIN:STANDARD
TZOFFSETFROM:+0900
TZOFFSETTO:+0900
TZNAME:JST
DTSTART:20250101T000000
END:STANDARD
END:VTIMEZONE
BEGIN:VEVENT
DTSTART;TZID=Asia/Tokyo:20251213T100000
DTEND;TZID=Asia/Tokyo:20251213T133000
DTSTAMP:20260421T201558
CREATED:20251025T005958Z
LAST-MODIFIED:20251025T005958Z
UID:6472-1765620000-1765632600@yukokan.miyabunkyo.com
SUMMARY:◆古文書講座＜中級編＞③
DESCRIPTION:※スマートフォンの場合は、横向きにしてご覧ください。\n講師が講義形式でくずし字の読み方や内容を解説しながら、\n座学形式で古文書を解読します。\n令和７年度は、全５回の『中級編』となります。 \n＊＊＊＊＊＊＊＊＊＊＊＊＊＊＊＊＊＊＊＊ \n●日程：①１０月１１日（土）　　　　②１１月８日（土）　　　　③１２月１３日（土）　　　　④１月１０日（土）　　　　⑤２月１４日（土）\n●時間：１０：００～１１：３０●対象：一般●定員：３０名●講師：　宮崎市史編さん室　室長　今城　正広　氏 \n※テキスト代として５００円を初回に頂戴いたします。※初回に開講式、最終回に閉講式を行います。 \n＊＊＊＊＊＊＊＊＊＊＊＊＊＊＊＊＊＊＊＊ \n \nお申し込みについて\n●先着順となります。（定員となり次第受付終了）　　※案内や通知はお送りしませんのでご注意ください。\n●電話（0985-47-8001）・FAX（0985-47-8202）・　メールフォームからお申し込みください。
URL:https://yukokan.miyabunkyo.com/tribe_events/%e2%97%86%e5%8f%a4%e6%96%87%e6%9b%b8%e8%ac%9b%e5%ba%a7%ef%bc%9c%e4%b8%ad%e7%b4%9a%e7%b7%a8%ef%bc%9e%e2%91%a2/
CATEGORIES:古文書講座
END:VEVENT
BEGIN:VEVENT
DTSTART;TZID=Asia/Tokyo:20251213T103000
DTEND;TZID=Asia/Tokyo:20251213T160000
DTSTAMP:20260421T201558
CREATED:20251102T070433Z
LAST-MODIFIED:20251102T070433Z
UID:6603-1765621800-1765641600@yukokan.miyabunkyo.com
SUMMARY:◆古代体験プログラム
DESCRIPTION:※スマートフォンの場合は画面を横にしてご覧ください。\n \n【2024.4.1改正】 \n土曜・日曜・祝日に限り、個人の来館者様向けの\n【古代体験プログラム】を実施しています。 \n●来館前の事前お申し込みは必要ありません。\n　当日の受付時間を下でご確認頂き、受付までお越しください。 \n●イベント等との兼ね合いによって体験プログラムを開催しない日が　あるほか、午前もしくは午後にしか実施しない場合や、実施内容が　変更となる場合がありますので、 　開催の有無等については【カレンダー】をご確認頂くか、　当日に電話にてお問い合わせください。 \n古代体験プログラムチラシ\n画像をクリックすると、別タブで開きます。
URL:https://yukokan.miyabunkyo.com/tribe_events/%e2%97%86%e5%8f%a4%e4%bb%a3%e4%bd%93%e9%a8%93%e3%83%97%e3%83%ad%e3%82%b0%e3%83%a9%e3%83%a0-97/
CATEGORIES:イベント
END:VEVENT
END:VCALENDAR