BEGIN:VCALENDAR
VERSION:2.0
PRODID:-//生目の杜 遊古館 - ECPv5.8.1//NONSGML v1.0//EN
CALSCALE:GREGORIAN
METHOD:PUBLISH
X-WR-CALNAME:生目の杜 遊古館
X-ORIGINAL-URL:https://yukokan.miyabunkyo.com
X-WR-CALDESC:生目の杜 遊古館 のイベント
BEGIN:VTIMEZONE
TZID:Asia/Tokyo
BEGIN:STANDARD
TZOFFSETFROM:+0900
TZOFFSETTO:+0900
TZNAME:JST
DTSTART:20250101T000000
END:STANDARD
END:VTIMEZONE
BEGIN:VEVENT
DTSTART;TZID=Asia/Tokyo:20250809T090000
DTEND;TZID=Asia/Tokyo:20250811T160000
DTSTAMP:20260422T181619
CREATED:20250807T012952Z
LAST-MODIFIED:20250807T012952Z
UID:6138-1754730000-1754928000@yukokan.miyabunkyo.com
SUMMARY:◆夏休み特別企画（昔の遊び体験・ミニ展示・クイズラリー）
DESCRIPTION:※スマートフォンの場合は画面を横にしてご覧ください。\n❶昔の遊び体験\n通常、奇数月の第３日曜日に開催している『昔の遊び体験コーナー』ですが、夏休み特別企画として、令和７年８月９日（土）～１７日（日）に設置します！ \n外では竹馬や竹ぽっくり、埋蔵文化財センターエントランスでは、\n竹のけん玉遊びやかるた、だるま落としやおじゃみなど、\n無料で遊ぶことができますよ♪ \n\n詳細は当館SNS（Instagram・Facebook）をご覧ください。\nぜひ、みなさんで遊びにいらしてください♪ \n\n昔の遊び体験は、９月以降奇数月の第３日曜日に開催します。\n今後もこちらの行事カレンダーにてご案内しますので、ぜひ、チェックしてみてくださいね。 \n\n昔のおもちゃ \n竹馬 \n竹ぽっくり \n❷・❸ミニ展示＆クイズラリー
URL:https://yukokan.miyabunkyo.com/tribe_events/%e2%97%86%e5%a4%8f%e4%bc%91%e3%81%bf%e7%89%b9%e5%88%a5%e4%bc%81%e7%94%bb%ef%bc%88%e6%98%94%e3%81%ae%e9%81%8a%e3%81%b3%e4%bd%93%e9%a8%93%e3%83%bb%e3%83%9f%e3%83%8b%e5%b1%95%e7%a4%ba%e3%83%bb%e3%82%af/
CATEGORIES:イベント
END:VEVENT
BEGIN:VEVENT
DTSTART;TZID=Asia/Tokyo:20250809T103000
DTEND;TZID=Asia/Tokyo:20250809T160000
DTSTAMP:20260422T181619
CREATED:20250711T021259Z
LAST-MODIFIED:20250711T021259Z
UID:6012-1754735400-1754755200@yukokan.miyabunkyo.com
SUMMARY:◆古代体験プログラム
DESCRIPTION:※スマートフォンの場合は画面を横にしてご覧ください。\n \n【2024.4.1改正】 \n土曜・日曜・祝日に限り、個人の来館者様向けの\n【古代体験プログラム】を実施しています。 \n●来館前の事前お申し込みは必要ありません。\n　当日の受付時間を下でご確認頂き、受付までお越しください。 \n●イベント等との兼ね合いによって体験プログラムを開催しない日が　あるほか、午前もしくは午後にしか実施しない場合や、実施内容が　変更となる場合がありますので、 　開催の有無等については【カレンダー】をご確認頂くか、　当日に電話にてお問い合わせください。 \n古代体験プログラムチラシ\n画像をクリックすると、別タブで開きます。
URL:https://yukokan.miyabunkyo.com/tribe_events/%e2%97%86%e5%8f%a4%e4%bb%a3%e4%bd%93%e9%a8%93%e3%83%97%e3%83%ad%e3%82%b0%e3%83%a9%e3%83%a0-78/
CATEGORIES:イベント
END:VEVENT
BEGIN:VEVENT
DTSTART;TZID=Asia/Tokyo:20250809T133000
DTEND;TZID=Asia/Tokyo:20250809T150000
DTSTAMP:20260422T181619
CREATED:20250620T082120Z
LAST-MODIFIED:20250719T000628Z
UID:5985-1754746200-1754751600@yukokan.miyabunkyo.com
SUMMARY:◆大人も子どももわくわく！学芸員講座②古文書を読んでみよう ※受付延長中
DESCRIPTION:※スマートフォンの場合、画面の向きを横にして頂くとご覧になりやすくなります。\n＊＊＊＊＊＊＊＊＊＊＊＊＊＊＊＊＊＊＊＊＊＊＊＊＊＊＊＊＊＊ \n小学５年生～中学生の子どもさんを対象として、\n古文書とは何か、どんな字があるのか…など、\n江戸時代のおもしろい双六を使ったカルタあそびなどを通して、\nはじめての古文書を楽しく学んでみませんか？\n歴史に興味のあるみなさん、ぜひ気軽に参加してみてくださいね！ \n※受付延長中です \n＊＊＊＊＊＊＊＊＊＊＊＊＊＊＊＊＊＊＊＊＊＊＊＊＊＊＊＊＊＊ \n●日　時：令和７年８月９日（土）13:30～15:00 \n●対　象：一般 \n●定　員：２０名 \n●参加費：無料 \n●備　考：天候等によって延期・中止となる可能性があります。 \n＜お申込みについて＞\n※必ずページ下段の『各種講座へのお申し込みに関する注意』を　ご覧頂き、ご了承頂いた上でのお申込みをお願いします。 \n\n\n\n\n●この講座は事前申込制（応募多数の場合は抽選）となっております。 \n　①申込期間：７月９日（水）9:00～１８日（金）17:00　※受付延長中 \n　②当落について：当選者のみメールで通知いたします。 \n●参加ご希望の方は当ホームページのメールフォームにて　お申し込みください。 \n　※必ず住所・電話番号・お子様の学年をお知らせください。 \n　※落選の場合はご連絡いたしませんのでご了承ください。 \n　※キャリアメールでのお申し込み場合、　　　　　　　　　　　　　\n　　当選通知メールが届かない場合がございます。　　　　　　　　　　　もし、開催一週間前までに通知が無く、当落が分からない場合は、　　お手数ですが、お電話にてお問い合わせください。　　　　　　　 \n\n●団体でのお申し込みはお断りしております。 \n※上のメールフォーム記入例をご覧ください。（入力漏れのないようにお願いします。） \n画像をクリックすると拡大します。
URL:https://yukokan.miyabunkyo.com/tribe_events/%e2%97%86%e5%a4%a7%e4%ba%ba%e3%82%82%e5%ad%90%e3%81%a9%e3%82%82%e3%82%82%e3%82%8f%e3%81%8f%e3%82%8f%e3%81%8f%ef%bc%81%e5%ad%a6%e8%8a%b8%e5%93%a1%e8%ac%9b%e5%ba%a7%e2%91%a1%e5%8f%a4%e6%96%87%e6%9b%b8/
CATEGORIES:歴史文化講座
END:VEVENT
END:VCALENDAR