BEGIN:VCALENDAR
VERSION:2.0
PRODID:-//生目の杜 遊古館 - ECPv5.8.1//NONSGML v1.0//EN
CALSCALE:GREGORIAN
METHOD:PUBLISH
X-WR-CALNAME:生目の杜 遊古館
X-ORIGINAL-URL:https://yukokan.miyabunkyo.com
X-WR-CALDESC:生目の杜 遊古館 のイベント
BEGIN:VTIMEZONE
TZID:Asia/Tokyo
BEGIN:STANDARD
TZOFFSETFROM:+0900
TZOFFSETTO:+0900
TZNAME:JST
DTSTART:20250101T000000
END:STANDARD
END:VTIMEZONE
BEGIN:VEVENT
DTSTART;TZID=Asia/Tokyo:20250720T093000
DTEND;TZID=Asia/Tokyo:20250720T163000
DTSTAMP:20260420T173647
CREATED:20250613T044214Z
LAST-MODIFIED:20250613T044258Z
UID:5940-1753003800-1753029000@yukokan.miyabunkyo.com
SUMMARY:◆昔の遊び体験（奇数月第3日曜開催）
DESCRIPTION:※スマートフォンの場合は画面を横にしてご覧ください。\n本日７月２０日（日）、『昔の遊び体験コーナー』を設置します！\n外では竹馬や竹ぽっくり、埋蔵文化財センターエントランスでは、\n竹のけん玉遊びやかるた、だるま落としやおじゃみなど、\n無料で遊ぶことができますよ♪ \n\n詳細は当館SNS（Instagram・Facebook）をご覧ください。\nぜひ、みなさんで遊びにいらしてください♪ \n\n※昔の遊び体験は、今年度奇数月の第３日曜日に開催します。\n今後もこちらの行事カレンダーにてご案内しますので、ぜひ、チェックしてみてくださいね。 \n\n昔のおもちゃ \n竹馬 \n竹ぽっくり
URL:https://yukokan.miyabunkyo.com/tribe_events/%e2%97%86%e6%98%94%e3%81%ae%e9%81%8a%e3%81%b3%e4%bd%93%e9%a8%93%ef%bc%88%e5%a5%87%e6%95%b0%e6%9c%88%e7%ac%ac3%e6%97%a5%e6%9b%9c%e9%96%8b%e5%82%ac%ef%bc%89/
CATEGORIES:イベント
END:VEVENT
BEGIN:VEVENT
DTSTART;TZID=Asia/Tokyo:20250720T103000
DTEND;TZID=Asia/Tokyo:20250720T160000
DTSTAMP:20260420T173647
CREATED:20250606T010218Z
LAST-MODIFIED:20250606T085132Z
UID:5913-1753007400-1753027200@yukokan.miyabunkyo.com
SUMMARY:◆古代体験プログラム
DESCRIPTION:※スマートフォンの場合は画面を横にしてご覧ください。\n \n【2024.4.1改正】 \n土曜・日曜・祝日に限り、個人の来館者様向けの\n【古代体験プログラム】を実施しています。 \n●来館前の事前お申し込みは必要ありません。\n　当日の受付時間を下でご確認頂き、受付までお越しください。 \n●イベント等との兼ね合いによって体験プログラムを開催しない日が　あるほか、午前もしくは午後にしか実施しない場合や、実施内容が　変更となる場合がありますので、 　開催の有無等については【カレンダー】をご確認頂くか、　当日に電話にてお問い合わせください。 \n古代体験プログラムチラシ\n画像をクリックすると、別タブで開きます。
URL:https://yukokan.miyabunkyo.com/tribe_events/%e2%97%86%e5%8f%a4%e4%bb%a3%e4%bd%93%e9%a8%93%e3%83%97%e3%83%ad%e3%82%b0%e3%83%a9%e3%83%a0-74/
CATEGORIES:イベント
END:VEVENT
END:VCALENDAR