BEGIN:VCALENDAR
VERSION:2.0
PRODID:-//生目の杜 遊古館 - ECPv5.8.1//NONSGML v1.0//EN
CALSCALE:GREGORIAN
METHOD:PUBLISH
X-WR-CALNAME:生目の杜 遊古館
X-ORIGINAL-URL:https://yukokan.miyabunkyo.com
X-WR-CALDESC:生目の杜 遊古館 のイベント
BEGIN:VTIMEZONE
TZID:Asia/Tokyo
BEGIN:STANDARD
TZOFFSETFROM:+0900
TZOFFSETTO:+0900
TZNAME:JST
DTSTART:20250101T000000
END:STANDARD
END:VTIMEZONE
BEGIN:VEVENT
DTSTART;TZID=Asia/Tokyo:20250705T100000
DTEND;TZID=Asia/Tokyo:20250705T113000
DTSTAMP:20260420T154033
CREATED:20250524T061238Z
LAST-MODIFIED:20250524T061238Z
UID:5888-1751709600-1751715000@yukokan.miyabunkyo.com
SUMMARY:◆歴史文化講座③
DESCRIPTION:＊＊＊＊＊＊＊＊＊＊＊＊＊＊＊＊＊＊＊＊＊＊＊＊＊＊＊＊＊＊＊＊ \n※スマートフォンの場合は画面を横向きにしてご覧ください。\n＊＊＊＊＊＊＊＊＊＊＊＊＊＊＊＊＊＊＊＊＊＊＊＊＊＊＊＊＊＊＊＊ \n年間を通して、宮崎の歴史や文化を中心に様々なテーマで講座を行います。 \n※前期開催分の講座日程や詳細についてはこちらをご覧ください。 \n \n●日　時：令和７年７月５日（土）１０：００～１１：３０\n●演　題：「宮崎の戦争　その６」\n●講　師：南九州文化研究会　稲田　哲也　氏\n●対　象：一般\n●定　員：７０名（先着）\n●参加費：無 料\n●備　考：天候その他の事情によって中止・延期する場合があります。 \nお申し込みについて\n●先着順となります。（定員となり次第受付終了）　　※案内や通知はお送りしませんのでご注意ください。\n●電話（0985-47-8001）・FAX（0985-47-8202）・　メールフォームからお申し込みください。\n●メールフォーム・FAXにてお申し込みの場合は、　必ず希望する講座の日にちとタイトルをご記入ください。
URL:https://yukokan.miyabunkyo.com/tribe_events/%e2%97%86%e6%ad%b4%e5%8f%b2%e6%96%87%e5%8c%96%e8%ac%9b%e5%ba%a7%e2%91%a2-4/
CATEGORIES:歴史文化講座
END:VEVENT
BEGIN:VEVENT
DTSTART;TZID=Asia/Tokyo:20250705T150000
DTEND;TZID=Asia/Tokyo:20250705T160000
DTSTAMP:20260420T154033
CREATED:20250601T024612Z
LAST-MODIFIED:20250606T084809Z
UID:5906-1751727600-1751731200@yukokan.miyabunkyo.com
SUMMARY:◆古代体験プログラム（③15:00～勾玉のみ実施）
DESCRIPTION:※スマートフォンの場合は画面を横にしてご覧ください。\n \n【2024.4.1改正】 \n土曜・日曜・祝日に限り、個人の来館者様向けの\n【古代体験プログラム】を実施しています。 \n●来館前の事前お申し込みは必要ありません。\n　当日の受付時間を下でご確認頂き、受付までお越しください。 \n●イベント等との兼ね合いによって体験プログラムを開催しない日が　あるほか、午前もしくは午後にしか実施しない場合や、実施内容が　変更となる場合がありますので、 　開催の有無等については【カレンダー】をご確認頂くか、　当日に電話にてお問い合わせください。 \n古代体験プログラムチラシ\n画像をクリックすると、別タブで開きます。
URL:https://yukokan.miyabunkyo.com/tribe_events/%e2%97%87%e5%8f%a4%e4%bb%a3%e4%bd%93%e9%a8%93%e3%83%97%e3%83%ad%e3%82%b0%e3%83%a9%e3%83%a0%e3%81%af%e3%81%82%e3%82%8a%e3%81%be%e3%81%9b%e3%82%93-29/
CATEGORIES:イベント
END:VEVENT
END:VCALENDAR