BEGIN:VCALENDAR
VERSION:2.0
PRODID:-//生目の杜 遊古館 - ECPv5.8.1//NONSGML v1.0//EN
CALSCALE:GREGORIAN
METHOD:PUBLISH
X-WR-CALNAME:生目の杜 遊古館
X-ORIGINAL-URL:https://yukokan.miyabunkyo.com
X-WR-CALDESC:生目の杜 遊古館 のイベント
BEGIN:VTIMEZONE
TZID:Asia/Tokyo
BEGIN:STANDARD
TZOFFSETFROM:+0900
TZOFFSETTO:+0900
TZNAME:JST
DTSTART:20250101T000000
END:STANDARD
END:VTIMEZONE
BEGIN:VEVENT
DTSTART;TZID=Asia/Tokyo:20250621T133000
DTEND;TZID=Asia/Tokyo:20250621T150000
DTSTAMP:20260420T153937
CREATED:20250425T055927Z
LAST-MODIFIED:20250508T043129Z
UID:5748-1750512600-1750518000@yukokan.miyabunkyo.com
SUMMARY:◆大人も子どももわくわく！学芸員講座①古文書基礎知識
DESCRIPTION:※スマートフォンの場合、画面の向きを横にして頂くとご覧になりやすくなります。\n＊＊＊＊＊＊＊＊＊＊＊＊＊＊＊＊＊＊＊＊＊＊＊＊＊＊＊＊＊＊ \n初心者でも気軽にどうぞ！難しい内容を読みこなすのではなくまずは古文書の基礎的なあれこれを知るための講座です。 \n＊＊＊＊＊＊＊＊＊＊＊＊＊＊＊＊＊＊＊＊＊＊＊＊＊＊＊＊＊＊ \n●日　時：令和７年６月２１日（土）13:30～15:00 \n●対　象：一般 \n●定　員：２０名 \n●参加費：無料 \n●備　考：天候等によって延期・中止となる可能性があります。 \nお申し込みについて\n●先着順となります。（定員となり次第受付終了）　　※案内や通知はお送りしませんのでご注意ください。\n●電話（0985-47-8001）・FAX（0985-47-8202）・　メールフォームからお申し込みください。\n●メールフォーム・FAXにてお申し込みの場合は、　必ず希望する講座の日にちとタイトルをご記入ください。
URL:https://yukokan.miyabunkyo.com/tribe_events/%e2%97%86%e3%82%8f%e3%81%8f%e3%82%8f%e3%81%8f%e5%ad%a6%e8%8a%b8%e5%93%a1%e8%ac%9b%e5%ba%a7%e2%91%a0%e5%8f%a4%e6%96%87%e6%9b%b8%e5%9f%ba%e7%a4%8e%e7%9f%a5%e8%ad%98/
CATEGORIES:歴史文化講座
END:VEVENT
BEGIN:VEVENT
DTSTART;TZID=Asia/Tokyo:20250621T133000
DTEND;TZID=Asia/Tokyo:20250621T160000
DTSTAMP:20260420T153937
CREATED:20250425T061511Z
LAST-MODIFIED:20250606T084637Z
UID:5762-1750512600-1750521600@yukokan.miyabunkyo.com
SUMMARY:◆古代体験プログラム（午後のみ実施）
DESCRIPTION:※スマートフォンの場合は画面を横にしてご覧ください。\n \n【2024.4.1改正】 \n土曜・日曜・祝日に限り、個人の来館者様向けの\n【古代体験プログラム】を実施しています。 \n●来館前の事前お申し込みは必要ありません。\n　当日の受付時間を下でご確認頂き、受付までお越しください。 \n●イベント等との兼ね合いによって体験プログラムを開催しない日が　あるほか、午前もしくは午後にしか実施しない場合や、実施内容が　変更となる場合がありますので、 　開催の有無等については【カレンダー】をご確認頂くか、　当日に電話にてお問い合わせください。 \n古代体験プログラムチラシ\n画像をクリックすると、別タブで開きます。
URL:https://yukokan.miyabunkyo.com/tribe_events/%e2%97%86%e5%8f%a4%e4%bb%a3%e4%bd%93%e9%a8%93%e3%83%97%e3%83%ad%e3%82%b0%e3%83%a9%e3%83%a0%ef%bc%88%e5%8d%88%e5%be%8c%e3%81%ae%e3%81%bf%e5%ae%9f%e6%96%bd%ef%bc%89-16/
CATEGORIES:イベント
END:VEVENT
END:VCALENDAR