BEGIN:VCALENDAR
VERSION:2.0
PRODID:-//生目の杜 遊古館 - ECPv5.8.1//NONSGML v1.0//EN
CALSCALE:GREGORIAN
METHOD:PUBLISH
X-WR-CALNAME:生目の杜 遊古館
X-ORIGINAL-URL:https://yukokan.miyabunkyo.com
X-WR-CALDESC:生目の杜 遊古館 のイベント
BEGIN:VTIMEZONE
TZID:Asia/Tokyo
BEGIN:STANDARD
TZOFFSETFROM:+0900
TZOFFSETTO:+0900
TZNAME:JST
DTSTART:20250101T000000
END:STANDARD
END:VTIMEZONE
BEGIN:VEVENT
DTSTART;TZID=Asia/Tokyo:20250309T093000
DTEND;TZID=Asia/Tokyo:20250309T133000
DTSTAMP:20260420T100950
CREATED:20250201T050832Z
LAST-MODIFIED:20250222T012718Z
UID:5408-1741512600-1741527000@yukokan.miyabunkyo.com
SUMMARY:◆古墳ウォークラリーとカレー炊飯　※受付終了
DESCRIPTION:＊＊＊＊＊＊＊＊＊＊＊＊＊＊＊＊＊＊＊＊＊＊＊＊＊＊＊＊＊＊ \n※スマートフォンの場合、画面の向きを横にして頂くと\n　ご覧になりやすくなります。 \n＊＊＊＊＊＊＊＊＊＊＊＊＊＊＊＊＊＊＊＊＊＊＊＊＊＊＊＊＊＊ \n国指定史跡生目古墳群で様々なミッションに挑戦するほか、\n遊古館ではかまどで飯盒炊爨（炊飯）やカレー作りを体験する、\n古墳&遊古館を満喫するプログラムです。 \n※受付を終了しました \n●日時：令和７年３月９日（日） \n●時間：9:30～13:30 \n●対象・定員：子ども（小学生以上）と保護者　親子１０組 \n●参加費：１人５００円 \n※過去開催の様子\n＜お申込みについて＞\n※必ず下のお申し込みに関する注意をご覧頂き、ご了承頂いた上でのお申し込みをお願いします。 \n\n\n\n\n●この講座は抽選制となっております。 \n　①申込期間：２月９日（日）9:00～１８日（火）17:00 \n　②当落について：当選者のみメールで通知いたします。 \n●参加ご希望の方は当ホームページのメールフォームにて　お申し込みください。 \n　※必ず住所・電話番号・お子様の学年をお知らせください。 \n　※落選の場合はご連絡いたしませんのでご了承ください。 \n　※キャリアメールでのお申し込み場合、　　　　　　　　　　　　　\n　　当選通知メールが届かない場合がございます。　　　　　　　　　　　もし、開催一週間前までに通知が無く、当落が分からない場合は、　　お手数ですが、お電話にてお問い合わせください。　　　　　　　 \n\n●団体でのお申し込みはお断りしております。 \n※上のメールフォーム記入例をご覧ください。（入力漏れのないようにお願いします。） \n画像をクリックすると拡大します。
URL:https://yukokan.miyabunkyo.com/tribe_events/%e2%97%86%e5%8f%a4%e5%a2%b3%e3%82%a6%e3%82%a9%e3%83%bc%e3%82%af%e3%83%a9%e3%83%aa%e3%83%bc%e3%81%a8%e3%82%ab%e3%83%ac%e3%83%bc%e7%82%8a%e9%a3%af-3/
CATEGORIES:体験学習
END:VEVENT
BEGIN:VEVENT
DTSTART;TZID=Asia/Tokyo:20250309T103000
DTEND;TZID=Asia/Tokyo:20250309T160000
DTSTAMP:20260420T100950
CREATED:20250201T050918Z
LAST-MODIFIED:20250201T050919Z
UID:5411-1741516200-1741536000@yukokan.miyabunkyo.com
SUMMARY:◇古代体験プログラムはありません
DESCRIPTION:本日は古代体験プログラムはありません。
URL:https://yukokan.miyabunkyo.com/tribe_events/%e2%97%87%e5%8f%a4%e4%bb%a3%e4%bd%93%e9%a8%93%e3%83%97%e3%83%ad%e3%82%b0%e3%83%a9%e3%83%a0%e3%81%af%e3%81%82%e3%82%8a%e3%81%be%e3%81%9b%e3%82%93-20/
CATEGORIES:イベント
END:VEVENT
END:VCALENDAR