BEGIN:VCALENDAR
VERSION:2.0
PRODID:-//生目の杜 遊古館 - ECPv5.8.1//NONSGML v1.0//EN
CALSCALE:GREGORIAN
METHOD:PUBLISH
X-WR-CALNAME:生目の杜 遊古館
X-ORIGINAL-URL:https://yukokan.miyabunkyo.com
X-WR-CALDESC:生目の杜 遊古館 のイベント
BEGIN:VTIMEZONE
TZID:Asia/Tokyo
BEGIN:STANDARD
TZOFFSETFROM:+0900
TZOFFSETTO:+0900
TZNAME:JST
DTSTART:20250101T000000
END:STANDARD
END:VTIMEZONE
BEGIN:VEVENT
DTSTART;TZID=Asia/Tokyo:20250125T090000
DTEND;TZID=Asia/Tokyo:20250125T163000
DTSTAMP:20260420T065118
CREATED:20250120T041339Z
LAST-MODIFIED:20250120T041422Z
UID:5358-1737795600-1737822600@yukokan.miyabunkyo.com
SUMMARY:◆企画展「お墓は語る-墓制・葬制から学ぶ歴史と文化-」（～3/9）
DESCRIPTION:※スマートフォンの場合は、画面を横向きにしてご覧ください。 \n本日より企画展「お墓は語る-墓制・葬制から学ぶ歴史と文化-」が始まります。 \n知っているようで意外と知らないお墓の歴史や\nお葬式などの文化について、展示を通して気軽に学んでみませんか？ \n詳細は企画展のページをご覧ください。
URL:https://yukokan.miyabunkyo.com/tribe_events/%e2%97%86%e4%bc%81%e7%94%bb%e5%b1%95%e3%80%8c%e3%81%8a%e5%a2%93%e3%81%af%e8%aa%9e%e3%82%8b-%e5%a2%93%e5%88%b6%e3%83%bb%e8%91%ac%e5%88%b6%e3%81%8b%e3%82%89%e5%ad%a6%e3%81%b6%e6%ad%b4%e5%8f%b2%e3%81%a8/
END:VEVENT
BEGIN:VEVENT
DTSTART;TZID=Asia/Tokyo:20250125T100000
DTEND;TZID=Asia/Tokyo:20250125T113000
DTSTAMP:20260420T065118
CREATED:20241124T004532Z
LAST-MODIFIED:20250130T030411Z
UID:5194-1737799200-1737804600@yukokan.miyabunkyo.com
SUMMARY:◆みんなの考古学講座⑤
DESCRIPTION:＊＊＊＊＊＊＊＊＊＊＊＊＊＊＊＊＊＊＊＊＊＊＊＊＊＊＊＊＊＊＊＊ \n※スマートフォンの場合は画面を横向きにしてご覧ください。\n＊＊＊＊＊＊＊＊＊＊＊＊＊＊＊＊＊＊＊＊＊＊＊＊＊＊＊＊＊＊＊＊ \n「速報！超速報!!宮崎市の遺跡たち2024-2025」をテーマにお話しをします。 \n後期日程の詳細はこちらをご覧ください。 \n●日　時：令和７年１月２５日（土）１０：００～１１：３０\n●演　題：「市街地に眠る飛鳥時代の大集落」\n●講　師：宮崎市文化財課　朝川　千聖 氏\n●対　象：一般\n●定　員：７０名（先着）\n●参加費：無 料\n●備　考：天候その他の事情によって中止・延期する場合があります。 \nお申し込みについて\n●先着順となります。（定員となり次第受付終了）　　※案内や通知はお送りしませんのでご注意ください。\n●電話（0985-47-8001）・FAX（0985-47-8202）・　メールフォームからお申し込みください。\n●メールフォーム・FAXにてお申し込みの場合は、　必ず希望する講座の日にちとタイトルをご記入ください。
URL:https://yukokan.miyabunkyo.com/tribe_events/%e2%97%86%e3%81%bf%e3%82%93%e3%81%aa%e3%81%ae%e8%80%83%e5%8f%a4%e5%ad%a6%e8%ac%9b%e5%ba%a7%e2%91%a4-3/
CATEGORIES:歴史文化講座
END:VEVENT
BEGIN:VEVENT
DTSTART;TZID=Asia/Tokyo:20250125T103000
DTEND;TZID=Asia/Tokyo:20250125T160000
DTSTAMP:20260420T065118
CREATED:20241124T005128Z
LAST-MODIFIED:20241124T005128Z
UID:5210-1737801000-1737820800@yukokan.miyabunkyo.com
SUMMARY:◆古代体験プログラム
DESCRIPTION:
URL:https://yukokan.miyabunkyo.com/tribe_events/%e2%97%86%e5%8f%a4%e4%bb%a3%e4%bd%93%e9%a8%93%e3%83%97%e3%83%ad%e3%82%b0%e3%83%a9%e3%83%a0-44/
CATEGORIES:イベント
END:VEVENT
END:VCALENDAR