BEGIN:VCALENDAR
VERSION:2.0
PRODID:-//生目の杜 遊古館 - ECPv5.8.1//NONSGML v1.0//EN
CALSCALE:GREGORIAN
METHOD:PUBLISH
X-WR-CALNAME:生目の杜 遊古館
X-ORIGINAL-URL:https://yukokan.miyabunkyo.com
X-WR-CALDESC:生目の杜 遊古館 のイベント
BEGIN:VTIMEZONE
TZID:Asia/Tokyo
BEGIN:STANDARD
TZOFFSETFROM:+0900
TZOFFSETTO:+0900
TZNAME:JST
DTSTART:20240101T000000
END:STANDARD
END:VTIMEZONE
BEGIN:VEVENT
DTSTART;TZID=Asia/Tokyo:20241019T090000
DTEND;TZID=Asia/Tokyo:20241019T163000
DTSTAMP:20260420T025702
CREATED:20241018T065205Z
LAST-MODIFIED:20241018T070030Z
UID:5063-1729328400-1729355400@yukokan.miyabunkyo.com
SUMMARY:◆市制100周年記念企画展「宮崎市のあゆみ」
DESCRIPTION:※スマートフォンの場合は、画面を横向きにしてご覧ください。 \n大正13年（1924）に宮崎郡宮崎町・大淀町・大宮村が合併したことで\n『宮崎市』が誕生して今年で100周年を迎えたことを記念し、\n宮崎市の誕生に至るまでの様子や市制100年を振り返る企画展を開催します。\n知っているようで意外と知らない『宮崎市のあゆみ』に触れてみませんか？\n詳細はこちらをご覧ください。
URL:https://yukokan.miyabunkyo.com/tribe_events/%e5%b8%82%e5%88%b6100%e5%91%a8%e5%b9%b4%e8%a8%98%e5%bf%b5%e4%bc%81%e7%94%bb%e5%b1%95%e3%80%8c%e5%ae%ae%e5%b4%8e%e5%b8%82%e3%81%ae%e3%81%82%e3%82%86%e3%81%bf%e3%80%8d/
CATEGORIES:企画展
END:VEVENT
BEGIN:VEVENT
DTSTART;TZID=Asia/Tokyo:20241019T103000
DTEND;TZID=Asia/Tokyo:20241019T160000
DTSTAMP:20260420T025702
CREATED:20240828T060435Z
LAST-MODIFIED:20240828T060436Z
UID:4896-1729333800-1729353600@yukokan.miyabunkyo.com
SUMMARY:◇古代体験プログラムはありません
DESCRIPTION:本日は古代体験プログラムはありません。
URL:https://yukokan.miyabunkyo.com/tribe_events/%e2%97%87%e5%8f%a4%e4%bb%a3%e4%bd%93%e9%a8%93%e3%83%97%e3%83%ad%e3%82%b0%e3%83%a9%e3%83%a0%e3%81%af%e3%81%82%e3%82%8a%e3%81%be%e3%81%9b%e3%82%93-9/
CATEGORIES:イベント
END:VEVENT
BEGIN:VEVENT
DTSTART;TZID=Asia/Tokyo:20241019T140000
DTEND;TZID=Asia/Tokyo:20241019T160000
DTSTAMP:20260420T025702
CREATED:20240802T230043Z
LAST-MODIFIED:20240807T082935Z
UID:4760-1729346400-1729353600@yukokan.miyabunkyo.com
SUMMARY:◆開館15周年記念講演会②
DESCRIPTION:※スマートフォンの場合は画面を横にしてご覧ください。 \n平成２１年（2009）４月２５日に開館した当館は、\n令和６年（2024）に開館15周年を迎えました。 \nこのたび、日本近代史を専門とされる講師をお招きして、宮崎市制100周年および開館15周年を記念した記念講演会を開催いたします。ぜひ、ご参加ください。 \n詳細について\n●日　時：令和６年１０月１９日（土）１４：００～１６：００\n●演　題：「創られた県庁所在地-近代都市宮崎の成立-」\n●講　師：九州大学名誉教授　有馬　学　氏\n●対象・定員：一般１２０名（先着）\n●参加費：無 料\n●備　考：スリッパ（履物）をご持参ください\n　　　　　天候その他の事情によって中止・延期する場合があります\n●講座チラシ（クリックすると拡大します） \n\n参加お申し込みについて\n■方法： メールフォーム、または電話（0985-47-8001）からお申し込みください。　　　　※メールフォームには、必ず講座名の欄に「記念講演会」とご入力ください。\n■備考：ご案内等は通知いたしませんので、ご注意ください。
URL:https://yukokan.miyabunkyo.com/tribe_events/%e2%97%86%e9%96%8b%e9%a4%a815%e5%91%a8%e5%b9%b4%e8%a8%98%e5%bf%b5%e8%ac%9b%e6%bc%94%e4%bc%9a%e2%91%a1/
END:VEVENT
END:VCALENDAR