BEGIN:VCALENDAR
VERSION:2.0
PRODID:-//生目の杜 遊古館 - ECPv5.8.1//NONSGML v1.0//EN
CALSCALE:GREGORIAN
METHOD:PUBLISH
X-WR-CALNAME:生目の杜 遊古館
X-ORIGINAL-URL:https://yukokan.miyabunkyo.com
X-WR-CALDESC:生目の杜 遊古館 のイベント
BEGIN:VTIMEZONE
TZID:Asia/Tokyo
BEGIN:STANDARD
TZOFFSETFROM:+0900
TZOFFSETTO:+0900
TZNAME:JST
DTSTART:20240101T000000
END:STANDARD
END:VTIMEZONE
BEGIN:VEVENT
DTSTART;TZID=Asia/Tokyo:20240810T103000
DTEND;TZID=Asia/Tokyo:20240815T160000
DTSTAMP:20260419T235113
CREATED:20240616T062126Z
LAST-MODIFIED:20240730T034237Z
UID:4702-1723285800-1723737600@yukokan.miyabunkyo.com
SUMMARY:◆古代体験プログラム（夏休み特別企画）
DESCRIPTION:※スマートフォンの場合は画面を横にしてご覧ください。\n【2024.4.1改正】 \n土曜・日曜・祝日に限り、個人の来館者様向けの【古代体験プログラム】を実施していますが、8/10（土）～8/15（木）は、夏休み特別企画として毎日開催しています。 \n●来館前のお申し込みは必要ありません。　当日の受付時間を下でご確認頂き、受付までお越しください。 ●イベント等との兼ね合いによって体験プログラムを開催しない日が　あるほか、午前もしくは午後にしか実施しない場合や、実施内容が　変更となる場合がありますので、\n　開催の有無等については【カレンダー】をご確認頂くか、　当日に電話にてお問い合わせください。 \n古代体験プログラムチラシ\n画像をクリックすると、別タブで開きます。
URL:https://yukokan.miyabunkyo.com/tribe_events/%e2%97%86%e5%8f%a4%e4%bb%a3%e4%bd%93%e9%a8%93%e3%83%97%e3%83%ad%e3%82%b0%e3%83%a9%e3%83%a0%ef%bc%88%e5%a4%8f%e4%bc%91%e3%81%bf%e7%89%b9%e5%88%a5%e4%bc%81%e7%94%bb%ef%bc%89/
CATEGORIES:イベント
END:VEVENT
END:VCALENDAR