BEGIN:VCALENDAR
VERSION:2.0
PRODID:-//生目の杜 遊古館 - ECPv5.8.1//NONSGML v1.0//EN
CALSCALE:GREGORIAN
METHOD:PUBLISH
X-WR-CALNAME:生目の杜 遊古館
X-ORIGINAL-URL:https://yukokan.miyabunkyo.com
X-WR-CALDESC:生目の杜 遊古館 のイベント
BEGIN:VTIMEZONE
TZID:Asia/Tokyo
BEGIN:STANDARD
TZOFFSETFROM:+0900
TZOFFSETTO:+0900
TZNAME:JST
DTSTART:20240101T000000
END:STANDARD
END:VTIMEZONE
BEGIN:VEVENT
DTSTART;TZID=Asia/Tokyo:20240727T090000
DTEND;TZID=Asia/Tokyo:20240727T163000
DTSTAMP:20260419T221111
CREATED:20240528T021656Z
LAST-MODIFIED:20240528T021657Z
UID:4658-1722070800-1722097800@yukokan.miyabunkyo.com
SUMMARY:◇古代体験プログラムはありません
DESCRIPTION:本日は古代体験プログラムはありません。
URL:https://yukokan.miyabunkyo.com/tribe_events/%e2%97%87%e5%8f%a4%e4%bb%a3%e4%bd%93%e9%a8%93%e3%83%97%e3%83%ad%e3%82%b0%e3%83%a9%e3%83%a0%e3%81%af%e3%81%82%e3%82%8a%e3%81%be%e3%81%9b%e3%82%93-3/
CATEGORIES:イベント
END:VEVENT
BEGIN:VEVENT
DTSTART;TZID=Asia/Tokyo:20240727T100000
DTEND;TZID=Asia/Tokyo:20240727T113000
DTSTAMP:20260419T221111
CREATED:20240528T013704Z
LAST-MODIFIED:20250130T030449Z
UID:4647-1722074400-1722079800@yukokan.miyabunkyo.com
SUMMARY:◆みんなの考古学講座②
DESCRIPTION:＊＊＊＊＊＊＊＊＊＊＊＊＊＊＊＊＊＊＊＊＊＊＊＊＊＊＊＊＊＊＊＊ \n※スマートフォンの場合は画面を横向きにしてご覧ください。\n＊＊＊＊＊＊＊＊＊＊＊＊＊＊＊＊＊＊＊＊＊＊＊＊＊＊＊＊＊＊＊＊ \n「速報！超速報!!宮崎市の遺跡たち2024-2025」をテーマにお話しをします。 前期日程の詳細はこちらをご覧ください。 \n●日　時：令和６年７月２７日（土）１０：００～１１：３０\n●演　題：「ここまで分かった佐土原城～中世山城から近世城郭へ～ 」\n●講　師：宮崎市文化財課　河野 裕次 氏\n●対　象：一般\n●定　員：７０名（先着）\n●参加費：無 料\n●備　考：天候その他の事情によって中止・延期する場合があります。 \nお申し込みについて\n●先着順となります。（定員となり次第受付終了）　　※案内や通知はお送りしませんのでご注意ください。\n●電話（0985-47-8001）・FAX（0985-47-8202）・　メールフォームからお申し込みください。\n●メールフォーム・FAXにてお申し込みの場合は、　必ず希望する講座の日にちとタイトルをご記入ください。
URL:https://yukokan.miyabunkyo.com/tribe_events/%e2%97%86%e3%81%bf%e3%82%93%e3%81%aa%e3%81%ae%e8%80%83%e5%8f%a4%e5%ad%a6%e8%ac%9b%e5%ba%a7%e2%91%a1-3/
CATEGORIES:歴史文化講座
END:VEVENT
BEGIN:VEVENT
DTSTART;TZID=Asia/Tokyo:20240727T160000
DTEND;TZID=Asia/Tokyo:20240727T210000
DTSTAMP:20260419T221111
CREATED:20240528T020044Z
LAST-MODIFIED:20240708T010207Z
UID:4626-1722096000-1722114000@yukokan.miyabunkyo.com
SUMMARY:◆遊古館デイキャンプ（生き物採集編） ※受付終了
DESCRIPTION:＊＊＊＊＊＊＊＊＊＊＊＊＊＊＊＊＊＊＊＊＊＊＊＊＊＊＊＊＊＊ \n※スマートフォンの場合、画面の向きを横にして頂くと\n　ご覧になりやすくなります。 \n＊＊＊＊＊＊＊＊＊＊＊＊＊＊＊＊＊＊＊＊＊＊＊＊＊＊＊＊＊＊ \n夏休みの思い出に！火おこしや飯盒炊飯、カレー作り等を行い、\n夜は生き物採集（昆虫の灯火採集）を行います。 \n※受付を終了しました。 \n＊＊＊＊＊＊＊＊＊＊＊＊＊＊＊＊＊＊＊＊＊＊＊＊＊＊＊＊＊＊ \n●日　時：令和６年７月２７日（土）16:00～21:00 \n●対　象：小学生以上のこどもと保護者 \n●定　員：３０名 \n●参加費：１名につき５００円 \n●備　考：天候等によって延期・中止となる可能性があります。 \n \n＜お申込みについて＞\n※必ずページ下段の『各種講座へのお申し込みに関する注意』を　ご覧頂き、ご了承頂いた上でのお申込みをお願いします。 \n\n\n\n\n●この講座は抽選制となっております。 \n　①申込期間：６月２７日（木）9:00～７月６日（土）17:00 \n　②当落について：当選者のみメールで通知いたします。 \n●参加ご希望の方は当ホームページのメールフォームにて　お申し込みください。 \n　※必ず住所・電話番号・お子様の学年・食数をお知らせください。 \n　※落選の場合はご連絡いたしませんのでご了承ください。 \n　※キャリアメールでのお申し込み場合、　　　　　　　　　　　　　\n　　当選通知メールが届かない場合がございます。　　　　　　　　　　　もし、開催一週間前までに通知が無く、当落が分からない場合は、　　お手数ですが、お電話にてお問い合わせください。　　　　　　　 \n●団体でのお申し込みはお断りしております。 \n※上のメールフォーム記入例をご覧ください。（入力漏れのないようにお願いします。） \n画像をクリックすると拡大します。
URL:https://yukokan.miyabunkyo.com/tribe_events/%e2%97%86%e9%81%8a%e5%8f%a4%e9%a4%a8%e3%83%87%e3%82%a4%e3%82%ad%e3%83%a3%e3%83%b3%e3%83%97%ef%bc%88%e7%94%9f%e3%81%8d%e7%89%a9%e6%8e%a1%e9%9b%86%e7%b7%a8%ef%bc%89-2/
CATEGORIES:イベント
END:VEVENT
END:VCALENDAR