BEGIN:VCALENDAR
VERSION:2.0
PRODID:-//生目の杜 遊古館 - ECPv5.8.1//NONSGML v1.0//EN
CALSCALE:GREGORIAN
METHOD:PUBLISH
X-WR-CALNAME:生目の杜 遊古館
X-ORIGINAL-URL:https://yukokan.miyabunkyo.com
X-WR-CALDESC:生目の杜 遊古館 のイベント
BEGIN:VTIMEZONE
TZID:Asia/Tokyo
BEGIN:STANDARD
TZOFFSETFROM:+0900
TZOFFSETTO:+0900
TZNAME:JST
DTSTART:20240101T000000
END:STANDARD
END:VTIMEZONE
BEGIN:VEVENT
DTSTART;TZID=Asia/Tokyo:20240721T103000
DTEND;TZID=Asia/Tokyo:20240721T120000
DTSTAMP:20260419T220834
CREATED:20240611T004032Z
LAST-MODIFIED:20240611T004032Z
UID:4682-1721557800-1721563200@yukokan.miyabunkyo.com
SUMMARY:◆古代体験プログラム（午前のみ実施）
DESCRIPTION:※スマートフォンの場合は画面を横にしてご覧ください。\n【2024.4.1改正】 \n土曜・日曜・祝日に限り、個人の来館者様向けの【古代体験プログラム】を実施しています。 \n●来館前のお申し込みは必要ありません。　当日の受付時間を下でご確認頂き、受付までお越しください。 ●イベント等との兼ね合いによって体験プログラムを開催しない日が　あるほか、午前もしくは午後にしか実施しない場合や、実施内容が　変更となる場合がありますので、\n　開催の有無等については【カレンダー】をご確認頂くか、　当日に電話にてお問い合わせください。 \n古代体験プログラムチラシ\n画像をクリックすると、別タブで開きます。
URL:https://yukokan.miyabunkyo.com/tribe_events/%e2%97%86%e5%8f%a4%e4%bb%a3%e4%bd%93%e9%a8%93%e3%83%97%e3%83%ad%e3%82%b0%e3%83%a9%e3%83%a0%ef%bc%88%e5%8d%88%e5%89%8d%e3%81%ae%e3%81%bf%e5%ae%9f%e6%96%bd%ef%bc%89-4/
CATEGORIES:イベント
END:VEVENT
BEGIN:VEVENT
DTSTART;TZID=Asia/Tokyo:20240721T133000
DTEND;TZID=Asia/Tokyo:20240721T160000
DTSTAMP:20260419T220834
CREATED:20240528T020038Z
LAST-MODIFIED:20240703T013918Z
UID:4623-1721568600-1721577600@yukokan.miyabunkyo.com
SUMMARY:◆古代織りでコースターを作ろう　※受付終了
DESCRIPTION:＊＊＊＊＊＊＊＊＊＊＊＊＊＊＊＊＊＊＊＊＊＊＊＊＊＊＊＊＊＊ \n※スマートフォンの場合、画面の向きを横にして頂くと\n　ご覧になりやすくなります。 \n＊＊＊＊＊＊＊＊＊＊＊＊＊＊＊＊＊＊＊＊＊＊＊＊＊＊＊＊＊＊ \n縄文時代の布づくり「アンギン」でコースターを作ります。 \n※受付を終了しました。 \n＊＊＊＊＊＊＊＊＊＊＊＊＊＊＊＊＊＊＊＊＊＊＊＊＊＊＊＊＊＊ \n●日　時：令和６年７月２１日（日）13:30～16:00 \n●対　象：小学３年生以上のこどもと保護者・一般 \n●定　員：２０名 \n●参加費：１枚１００円 \n●備　考：天候等によって延期・中止となる可能性があります。 \n※画像は作例です。 \n＜お申込みについて＞\n※必ずページ下段の『各種講座へのお申し込みに関する注意』を　ご覧頂き、ご了承頂いた上でのお申込みをお願いします。 \n\n\n\n\n●この講座は抽選制となっております。 \n　①申込期間：６月２１日（金）9:00～６月３０日（日）17:00 \n　②当落について：当選者のみメールで通知いたします。 \n●参加ご希望の方は当ホームページのメールフォームにて　お申し込みください。 \n　※必ず住所・電話番号・お子様の学年・製作枚数をお知らせください。 \n　※落選の場合はご連絡いたしませんのでご了承ください。 \n　※キャリアメールでのお申し込み場合、　　　　　　　　　　　　　\n　　当選通知メールが届かない場合がございます。　　　　　　　　　　　もし、開催一週間前までに通知が無く、当落が分からない場合は、　　お手数ですが、お電話にてお問い合わせください。　　　　　　　 \n●団体でのお申し込みはお断りしております。 \n※上のメールフォーム記入例をご覧ください。（入力漏れのないようにお願いします。） \n画像をクリックすると拡大します。
URL:https://yukokan.miyabunkyo.com/tribe_events/%e5%8f%a4%e4%bb%a3%e7%b9%94%e3%82%8a%e3%81%a7%e3%82%b3%e3%83%bc%e3%82%b9%e3%82%bf%e3%83%bc%e3%82%92%e4%bd%9c%e3%82%8d%e3%81%86/
CATEGORIES:体験学習
END:VEVENT
END:VCALENDAR