BEGIN:VCALENDAR
VERSION:2.0
PRODID:-//生目の杜 遊古館 - ECPv5.8.1//NONSGML v1.0//EN
CALSCALE:GREGORIAN
METHOD:PUBLISH
X-WR-CALNAME:生目の杜 遊古館
X-ORIGINAL-URL:https://yukokan.miyabunkyo.com
X-WR-CALDESC:生目の杜 遊古館 のイベント
BEGIN:VTIMEZONE
TZID:Asia/Tokyo
BEGIN:STANDARD
TZOFFSETFROM:+0900
TZOFFSETTO:+0900
TZNAME:JST
DTSTART:20220101T000000
END:STANDARD
END:VTIMEZONE
BEGIN:VEVENT
DTSTART;TZID=Asia/Tokyo:20220529T103000
DTEND;TZID=Asia/Tokyo:20220529T120000
DTSTAMP:20260425T230107
CREATED:20220407T060945Z
LAST-MODIFIED:20220412T232755Z
UID:2114-1653820200-1653825600@yukokan.miyabunkyo.com
SUMMARY:◆個人体験プログラム（午前のみ）
DESCRIPTION:※スマートフォンの場合は画面を横にしてご覧ください。 \n＊＊＊＊＊＊＊＊＊＊＊＊＊＊＊＊＊＊＊＊＊＊＊＊＊＊＊＊＊＊ \n土曜・日曜・祝日に限り、個人の来館者向けの【個人体験プログラム】を実施しています。 \n●来館前のお申し込みは必要ありません。　当日の受付時間を下でご確認頂き、受付までお越しください。 \n●イベント等との兼ね合いによって体験プログラムを開催しない日がありますので、\n　開催の有無については【カレンダー】をご確認ください。 \n\n\n\n\n●内容：草木染め・勾玉づくり・はにわづくり・土笛づくり \n●時間：本日は午前中のみ実施します\n　　　①10:30～11:30（草木染め） \n   【お申し込みの際の注意】　　※①の草木染めは10:00までにお申し込みください\n　　※開始後、途中参加はできません。 \n●対象：５歳以上ならどなたでも　　　　（ただし、小学校低学年以下は保護者の補助が必要です。） \n ●定員：各回につき２０名程度（団体不可） \n●材料代：【草木染め】1名につき150円 \n●備考：受付は埋蔵文化財センター事務室にて、体験は体験学習館で実施します。 \n\n※画像中のプラホビーづくりは現在受け付けておりません。
URL:https://yukokan.miyabunkyo.com/tribe_events/%e2%97%86%e5%80%8b%e4%ba%ba%e4%bd%93%e9%a8%93%e3%83%97%e3%83%ad%e3%82%b0%e3%83%a9%e3%83%a0-54/
CATEGORIES:イベント
END:VEVENT
BEGIN:VEVENT
DTSTART;TZID=Asia/Tokyo:20220529T133000
DTEND;TZID=Asia/Tokyo:20220529T153000
DTSTAMP:20260425T230107
CREATED:20220407T045045Z
LAST-MODIFIED:20220503T005853Z
UID:2083-1653831000-1653838200@yukokan.miyabunkyo.com
SUMMARY:◆レッツ！タイムワープin遊古館
DESCRIPTION:＊＊＊＊＊＊＊＊＊＊＊＊＊＊＊＊＊＊＊＊＊＊＊＊＊＊＊＊＊＊ \n※スマートフォンの場合、画面の向きを横にして頂くと\n　ご覧になりやすくなります。 \n＊＊＊＊＊＊＊＊＊＊＊＊＊＊＊＊＊＊＊＊＊＊＊＊＊＊＊＊＊＊ \n農耕体験や創作活動を通して、歴史や文化について学ぶ全5回の連続講座の開講式です。開講式の後は農耕体験を行います。 ※途中参加・単発受講はできません※今後の日程・・・8/7(日)、10/16(日)、12/11(日)、R5/2/26(日)\n※受付を終了しました。 \n●日時：令和４年５月２９日（日） \n●時間：13:30～15:30 \n●対象・定員：宮崎市・国富町・綾町に住む小学４年～６年生　２０名 \n●参加費：1\,000円（全５回分） \n●備考：新型コロナウイルス感染症に関する状況によっては、\n　　　　日程や内容など変更となる可能性があります。 \n＜お申込みについて＞\n※必ずページ下段の『各種講座へのお申し込みに関する注意』を　ご覧頂き、ご了承頂いた上でのお申込みをお願いします。 \n\n\n\n\n●この講座は抽選制となっております。 \n　①申込期間：３月２６日（土）9:00～４月３０日（土）17:00 \n　②当落について：５月８日（日）以降にご連絡いたします。 \n●参加ご希望の方は当ホームページのメールフォームか、　お電話・FAXにてお申し込みください。 \n　※必ず住所・電話番号・お子様の学年（年齢）をお知らせください。 \n　※メールフォームからのお申し込みの場合は、　　当館よりエントリー受付完了のメールを返信致します。 \n　※キャリアメールでのお申し込み場合、　　　　　　　　　　受付完了のメールが届かない場合がございます。　　　　　もし、一両日中に受付完了のメールが届かない場合は、　　お手数ですが、お電話にてお問い合わせください。　　 \n\n●団体でのお申し込みはお断りしております。 \n※上のメールフォーム記入例をご覧ください。（入力漏れのないようにお願いします。） \n画像をクリックすると拡大します。 \n\n\n\n\n各種講座へのお申し込みに関する注意\n各種講座へのお申込みに関する下の注意点をご覧いただいた上でのお申し込みをお願いいたします。 \n\n\n\n\n●事前申込制・抽選制の場合、ホームページのお申し込みフォームか、　直接お電話・FAXにてお申し込みください。 \n●開催１か月前の朝９時より受付しております。　→受付日午前９時以前のお申込みにつきましては、　　公平を期すため無効となります。 \n●子ども向けの体験学習の場合、必ず保護者同伴となります。 \n●団体でのお申し込みはご遠慮ください。　特に、体験学習の場合はご家族単位でお願いします。　 →お子様のお友達と参加希望の場合でも、　　それぞれご家族ごとにお申込みください。　 →抽選の場合、お子様のお友達同士のご家族ごとに　　お申し込みいただいても、落選する可能性があります。 \n●抽選制の場合、当ホームページ（カレンダー）上やお申し込みの際に　エントリー期間・当落発表方法についてお伝えしております。 \n●申込受付開始当日は、電話回線が込み合っている場合がございます。 \n●新型コロナウイルス感染症に関する状況や、天候等の事情により、　講座が中止または延期となる場合がございます。　その場合は、適時ホームページ上でお知らせいたします。
URL:https://yukokan.miyabunkyo.com/tribe_events/%e2%97%86%e3%83%ac%e3%83%83%e3%83%84%ef%bc%81%e3%82%bf%e3%82%a4%e3%83%a0%e3%83%af%e3%83%bc%e3%83%97in%e9%81%8a%e5%8f%a4%e9%a4%a8/
CATEGORIES:体験学習
END:VEVENT
END:VCALENDAR