BEGIN:VCALENDAR
VERSION:2.0
PRODID:-//生目の杜 遊古館 - ECPv5.8.1//NONSGML v1.0//EN
CALSCALE:GREGORIAN
METHOD:PUBLISH
X-WR-CALNAME:生目の杜 遊古館
X-ORIGINAL-URL:https://yukokan.miyabunkyo.com
X-WR-CALDESC:生目の杜 遊古館 のイベント
BEGIN:VTIMEZONE
TZID:Asia/Tokyo
BEGIN:STANDARD
TZOFFSETFROM:+0900
TZOFFSETTO:+0900
TZNAME:JST
DTSTART:20210101T000000
END:STANDARD
END:VTIMEZONE
BEGIN:VEVENT
DTSTART;TZID=Asia/Tokyo:20210805T083000
DTEND;TZID=Asia/Tokyo:20210831T163000
DTSTAMP:20260423T065054
CREATED:20210804T081145Z
LAST-MODIFIED:20210812T002546Z
UID:1110-1628152200-1630427400@yukokan.miyabunkyo.com
SUMMARY:臨時休館
DESCRIPTION:宮崎市広域圏が感染急増圏域（赤圏域）に指定されたことを受け、新型コロナウイルス感染症の感染拡大防止のため、当館は令和３年８月５日（水）から８月３１日（火）まで臨時休館といたします。 \n次の開館日は、９月１日（水）となります。
URL:https://yukokan.miyabunkyo.com/tribe_events/%e8%87%a8%e6%99%82%e4%bc%91%e9%a4%a8-3/
CATEGORIES:休館日
END:VEVENT
END:VCALENDAR