BEGIN:VCALENDAR
VERSION:2.0
PRODID:-//生目の杜 遊古館 - ECPv5.8.1//NONSGML v1.0//EN
CALSCALE:GREGORIAN
METHOD:PUBLISH
X-WR-CALNAME:生目の杜 遊古館
X-ORIGINAL-URL:https://yukokan.miyabunkyo.com
X-WR-CALDESC:生目の杜 遊古館 のイベント
BEGIN:VTIMEZONE
TZID:Asia/Tokyo
BEGIN:STANDARD
TZOFFSETFROM:+0900
TZOFFSETTO:+0900
TZNAME:JST
DTSTART:20230101T000000
END:STANDARD
END:VTIMEZONE
BEGIN:VEVENT
DTSTART;TZID=Asia/Tokyo:20230125T183000
DTEND;TZID=Asia/Tokyo:20230125T200000
DTSTAMP:20260423T111210
CREATED:20221130T233055Z
LAST-MODIFIED:20221214T025651Z
UID:2881-1674671400-1674676800@yukokan.miyabunkyo.com
SUMMARY:◆歴史夜話in遊古館②
DESCRIPTION:＊＊＊＊＊＊＊＊＊＊＊＊＊＊＊＊＊＊＊＊＊＊＊＊＊＊＊＊＊＊＊＊ \n※スマートフォンの場合は画面を横向きにしてご覧ください。\n＊＊＊＊＊＊＊＊＊＊＊＊＊＊＊＊＊＊＊＊＊＊＊＊＊＊＊＊＊＊＊＊ \n令和５年２月２６日（日）に開催される、\n公益財団法人宮崎文化振興協会３５周年記念事業「文化講演会」において、\n德川宗家１９代の德川家広氏を講師にお迎えすることに因み、\n徳川将軍家・徳川家臣団に関する講座（全２回）を開催します。 \n※当協会主催「文化講演会」についてはこちらをご覧ください。 \n※「歴史夜話in遊古館」申込用紙付きのチラシはこちらをご覧ください。 \n※第１回は令和４年１２月２１日（水）に開催します。　第１回・第２回いずれかのみのご参加でも大丈夫です。 \n※今回の講座は夜間開催（18:30-20:00）となりますので、ご注意下さい。 \n●日　時：令和５年１月２５日（水）１８：３０～２０：００\n●演　題：「徳川家臣団の横顔」\n●講　師：宮崎市生目の杜遊古館　館長　永井 淳生\n●対　象：一般\n●定　員：５０名\n●参加費：無 料\n●備　考：新型コロナウイルス感染症に関する状況によっては\n　　　　　開催延期となる可能性があります。 \nお申し込みについて\n●定員を超える場合は抽選となります。\n●電話（0985-47-8001）・FAX（0985-47-8202）・　メールフォームからお申し込みください。\n　※メールフォーム・FAXにてお申し込みの場合は、　　必ず希望する講座の日にちとタイトルをご記入ください。\n　※全２回のお申し込みでも、各回いずれかのみのお申し込みでも構いません。●お申し込み受付は１月１８日（水）までです。
URL:https://yukokan.miyabunkyo.com/tribe_events/%e2%97%86%e6%ad%b4%e5%8f%b2%e5%a4%9c%e8%a9%b1in%e9%81%8a%e5%8f%a4%e9%a4%a8%e2%91%a1/
CATEGORIES:歴史文化講座
END:VEVENT
END:VCALENDAR