BEGIN:VCALENDAR
VERSION:2.0
PRODID:-//生目の杜 遊古館 - ECPv5.8.1//NONSGML v1.0//EN
CALSCALE:GREGORIAN
METHOD:PUBLISH
X-WR-CALNAME:生目の杜 遊古館
X-ORIGINAL-URL:https://yukokan.miyabunkyo.com
X-WR-CALDESC:生目の杜 遊古館 のイベント
BEGIN:VTIMEZONE
TZID:Asia/Tokyo
BEGIN:STANDARD
TZOFFSETFROM:+0900
TZOFFSETTO:+0900
TZNAME:JST
DTSTART:20220101T000000
END:STANDARD
END:VTIMEZONE
BEGIN:VEVENT
DTSTART;TZID=Asia/Tokyo:20221126T100000
DTEND;TZID=Asia/Tokyo:20221126T233000
DTSTAMP:20260423T143105
CREATED:20221005T005203Z
LAST-MODIFIED:20221113T065831Z
UID:2677-1669456800-1669505400@yukokan.miyabunkyo.com
SUMMARY:◆みんなの考古学講座④
DESCRIPTION:＊＊＊＊＊＊＊＊＊＊＊＊＊＊＊＊＊＊＊＊＊＊＊＊＊＊＊＊＊＊＊＊ \n※スマートフォンの場合は画面を横向きにしてご覧ください。\n＊＊＊＊＊＊＊＊＊＊＊＊＊＊＊＊＊＊＊＊＊＊＊＊＊＊＊＊＊＊＊＊ \n宮崎市内各地の遺跡や出土物にまつわる講座を行います。\n後期日程の詳細はこちらをご覧ください。 \n●日　時：令和４年１１月２６日（土）１０：００～１１：３０\n●演　題：「佐土原天神地区の遺跡たち-松木田遺跡と上田島古城遺跡を中心に-」\n●講　師：宮崎市文化財課　石村 友規 氏\n●対　象：一般\n●定　員：５０名\n●参加費：無 料\n●備　考：新型コロナウイルス感染症に関する状況によっては\n　　　　　開催延期となる可能性があります。  \nお申し込みについて\n●定員を超える場合は抽選となります。\n●電話（0985-47-8001）・FAX（0985-47-8202）・　メールフォームからお申し込みください。\n　※メールフォーム・FAXにてお申し込みの場合は、　　必ず希望する講座の日にちとタイトルをご記入ください。\n●お申し込み受付は１１月１２日（土）までです。
URL:https://yukokan.miyabunkyo.com/tribe_events/%e2%97%86%e3%81%bf%e3%82%93%e3%81%aa%e3%81%ae%e8%80%83%e5%8f%a4%e5%ad%a6%e8%ac%9b%e5%ba%a7%e2%91%a3/
CATEGORIES:歴史文化講座
END:VEVENT
END:VCALENDAR