BEGIN:VCALENDAR
VERSION:2.0
PRODID:-//生目の杜 遊古館 - ECPv5.8.1//NONSGML v1.0//EN
CALSCALE:GREGORIAN
METHOD:PUBLISH
X-WR-CALNAME:生目の杜 遊古館
X-ORIGINAL-URL:https://yukokan.miyabunkyo.com
X-WR-CALDESC:生目の杜 遊古館 のイベント
BEGIN:VTIMEZONE
TZID:Asia/Tokyo
BEGIN:STANDARD
TZOFFSETFROM:+0900
TZOFFSETTO:+0900
TZNAME:JST
DTSTART:20220101T000000
END:STANDARD
END:VTIMEZONE
BEGIN:VEVENT
DTSTART;TZID=Asia/Tokyo:20220319T100000
DTEND;TZID=Asia/Tokyo:20220319T233000
DTSTAMP:20260424T035527
CREATED:20220122T234248Z
LAST-MODIFIED:20220201T024542Z
UID:1902-1647684000-1647732600@yukokan.miyabunkyo.com
SUMMARY:◆歴史文化講座⑧（2/5延期開催分）
DESCRIPTION:※スマートフォンの場合は画面を横にしてご覧ください。 \n＊＊＊＊＊＊＊＊＊＊＊＊＊＊＊＊＊＊＊＊＊＊＊＊＊＊＊＊ \n宮崎の歴史や文化を中心に様々なテーマで講座を行います。 \n※新型コロナウイルス感染症の感染拡大防止に　伴う臨時休館のため、2/5（土）から　3/19（土）に延期いたします。 \n＊＊＊＊＊＊＊＊＊＊＊＊＊＊＊＊＊＊＊＊＊＊＊＊＊＊＊＊ \n●日　時：令和４年３月１９日（土）１０：００～１１：３０\n●演　題：「江戸の災禍」～自然災害・流行り病との遭遇\n●講　師：宮崎市生目の杜遊古館 館長 永井 淳生\n●対　象：一般\n●定　員：５０名\n●参加費：無 料\n●備　考：新型コロナウイルス感染症に関する状況によっては　　　　　開催中止・延期となる可能性があります。 \nお申し込みについて\n●お申し込みは電話（0985-47-8001）・メールフォームからお願いします。●定員となり次第お申し込み受付を終了させて頂きます。●すでにお申し込み済の方には、延期開催のご案内をお送りします。
URL:https://yukokan.miyabunkyo.com/tribe_events/%e6%ad%b4%e5%8f%b2%e6%96%87%e5%8c%96%e8%ac%9b%e5%ba%a7%e2%91%a7%ef%bc%882-5%e5%bb%b6%e6%9c%9f%e9%96%8b%e5%82%ac%e5%88%86%ef%bc%89/
CATEGORIES:歴史文化講座
END:VEVENT
END:VCALENDAR