BEGIN:VCALENDAR
VERSION:2.0
PRODID:-//生目の杜 遊古館 - ECPv5.8.1//NONSGML v1.0//EN
CALSCALE:GREGORIAN
METHOD:PUBLISH
X-WR-CALNAME:生目の杜 遊古館
X-ORIGINAL-URL:https://yukokan.miyabunkyo.com
X-WR-CALDESC:生目の杜 遊古館 のイベント
BEGIN:VTIMEZONE
TZID:Asia/Tokyo
BEGIN:STANDARD
TZOFFSETFROM:+0900
TZOFFSETTO:+0900
TZNAME:JST
DTSTART:20220101T000000
END:STANDARD
END:VTIMEZONE
BEGIN:VEVENT
DTSTART;TZID=Asia/Tokyo:20220122T100000
DTEND;TZID=Asia/Tokyo:20220122T113000
DTSTAMP:20260424T072838
CREATED:20210916T021542Z
LAST-MODIFIED:20220124T010130Z
UID:1359-1642845600-1642851000@yukokan.miyabunkyo.com
SUMMARY:◆歴史文化講座④（9/4からの延期開催）→3/5へ再延期
DESCRIPTION:※スマートフォンの場合は画面を横にしてご覧ください。 \n＊＊＊＊＊＊＊＊＊＊＊＊＊＊＊＊＊＊＊＊＊＊＊＊＊＊＊＊＊＊＊ \n宮崎の歴史や文化を中心に様々なテーマで講座を行います。 \n日程の詳細はこちらをご覧ください。 \n※新型コロナウイルス感染症に関する臨時休館に伴い、　9/4（土）からの延期開催となります。 \n※新型コロナウイルス感染症に関する臨時休館に伴い\n　3/5（土）へ開催を再延期いたします。 \n＊＊＊＊＊＊＊＊＊＊＊＊＊＊＊＊＊＊＊＊＊＊＊＊＊＊＊＊＊＊＊＊ \n●日　時：令和４年１月２２日（土）１０：００～１１：３０\n●演　題：「宮崎の戦争　日米資料で解き明かす宮崎の戦史」\n●講　師：稲田 哲也 氏\n●対　象：一般\n●定　員：５０名\n●参加費：無 料\n●備　考：新型コロナウイルス感染症に関する状況によっては　　　　　開催延期となる可能性があります。 \nお申し込みについて\n●お申し込み受付を終了しました。●お申し込み済の方には延期開催のご案内をお送りします。
URL:https://yukokan.miyabunkyo.com/tribe_events/%e2%97%86%e6%ad%b4%e5%8f%b2%e6%96%87%e5%8c%96%e8%ac%9b%e5%ba%a7%e2%91%a3%ef%bc%889-4%e3%81%8b%e3%82%89%e3%81%ae%e5%bb%b6%e6%9c%9f%e9%96%8b%e5%82%ac%ef%bc%89/
CATEGORIES:歴史文化講座
END:VEVENT
END:VCALENDAR