BEGIN:VCALENDAR
VERSION:2.0
PRODID:-//生目の杜 遊古館 - ECPv5.8.1//NONSGML v1.0//EN
CALSCALE:GREGORIAN
METHOD:PUBLISH
X-WR-CALNAME:生目の杜 遊古館
X-ORIGINAL-URL:https://yukokan.miyabunkyo.com
X-WR-CALDESC:生目の杜 遊古館 のイベント
BEGIN:VTIMEZONE
TZID:Asia/Tokyo
BEGIN:STANDARD
TZOFFSETFROM:+0900
TZOFFSETTO:+0900
TZNAME:JST
DTSTART:20210101T000000
END:STANDARD
END:VTIMEZONE
BEGIN:VEVENT
DTSTART;TZID=Asia/Tokyo:20211123T100000
DTEND;TZID=Asia/Tokyo:20211123T113000
DTSTAMP:20260424T104059
CREATED:20210916T023059Z
LAST-MODIFIED:20211013T012306Z
UID:1367-1637661600-1637667000@yukokan.miyabunkyo.com
SUMMARY:◆歴史文化講座③（8/7からの延期開催）
DESCRIPTION:※スマートフォンの場合は画面を横にしてご覧ください。 \n＊＊＊＊＊＊＊＊＊＊＊＊＊＊＊＊＊＊＊＊＊＊＊＊＊＊＊＊＊＊＊ \n宮崎の歴史や文化を中心に様々なテーマで講座を行います。\n日程の詳細はこちらをご覧ください。 \n※新型コロナウイルス感染症に関する臨時休館に伴い、　8/7（土）からの延期開催となります。 ※お申し込みの受付は終了しています。 \n＊＊＊＊＊＊＊＊＊＊＊＊＊＊＊＊＊＊＊＊＊＊＊＊＊＊＊＊＊＊＊ \n●日　時：令和３年１１月２３日（火・祝）１０：００～１１：３０\n●演　題：「宮崎市の江戸時代」\n●講　師：宮崎県立妻高等学校教諭　若山 浩章 氏\n●対　象：一般\n●定　員：５０名\n●参加費：無 料\n●備　考：新型コロナウイルス感染症に関する状況によっては　　　　　開催延期となる可能性があります。 \nお申し込みについて\n●お申し込み受付を終了しました。\n●お申し込み済の方には延期開催のご案内をお送りします。
URL:https://yukokan.miyabunkyo.com/tribe_events/%e2%97%86%e6%ad%b4%e5%8f%b2%e6%96%87%e5%8c%96%e8%ac%9b%e5%ba%a7%e2%91%a2%ef%bc%888-7%e3%81%8b%e3%82%89%e3%81%ae%e5%bb%b6%e6%9c%9f%e9%96%8b%e5%82%ac%ef%bc%89/
CATEGORIES:歴史文化講座
END:VEVENT
END:VCALENDAR