BEGIN:VCALENDAR
VERSION:2.0
PRODID:-//生目の杜 遊古館 - ECPv5.8.1//NONSGML v1.0//EN
CALSCALE:GREGORIAN
METHOD:PUBLISH
X-WR-CALNAME:生目の杜 遊古館
X-ORIGINAL-URL:https://yukokan.miyabunkyo.com
X-WR-CALDESC:生目の杜 遊古館 のイベント
BEGIN:VTIMEZONE
TZID:Asia/Tokyo
BEGIN:STANDARD
TZOFFSETFROM:+0900
TZOFFSETTO:+0900
TZNAME:JST
DTSTART:20210101T000000
END:STANDARD
END:VTIMEZONE
BEGIN:VEVENT
DTSTART;TZID=Asia/Tokyo:20211106T100000
DTEND;TZID=Asia/Tokyo:20211106T233000
DTSTAMP:20260424T103941
CREATED:20210916T030820Z
LAST-MODIFIED:20210916T030820Z
UID:1407-1636192800-1636241400@yukokan.miyabunkyo.com
SUMMARY:◆歴史文化講座⑥
DESCRIPTION:宮崎の歴史や文化を中心に様々なテーマで講座を行います。\n日程の詳細はこちらをご覧ください。 \n＊＊＊＊＊＊＊＊＊＊＊＊＊＊＊＊＊＊＊＊＊＊＊＊＊＊＊＊＊＊＊＊＊＊＊＊＊＊＊＊＊＊＊＊＊ \n●日　時：令和３年１１月６日（土）１０：００～１１：３０\n●演　題：「南北朝時代の宮崎平野」～合戦を中心に～\n●講　師：宮崎大学教育学部教授　関　周一 氏\n●対　象：一般\n●定　員：５０名\n●参加費：無 料\n●備　考：新型コロナウイルス感染症に関する状況によっては開催延期となる可能性があります。 \nお申し込みについて\n●定員を超える場合は抽選となります。\n●電話（0985-47-8001）・FAX（0985-47-8202）・メールフォームからお申し込みください。\n●お申し込み受付は１０月２３日（土）までです。
URL:https://yukokan.miyabunkyo.com/tribe_events/%e2%97%86%e6%ad%b4%e5%8f%b2%e6%96%87%e5%8c%96%e8%ac%9b%e5%ba%a7%e2%91%a5/
CATEGORIES:歴史文化講座
END:VEVENT
END:VCALENDAR