BEGIN:VCALENDAR
VERSION:2.0
PRODID:-//生目の杜 遊古館 - ECPv5.8.1//NONSGML v1.0//EN
CALSCALE:GREGORIAN
METHOD:PUBLISH
X-WR-CALNAME:生目の杜 遊古館
X-ORIGINAL-URL:https://yukokan.miyabunkyo.com
X-WR-CALDESC:生目の杜 遊古館 のイベント
BEGIN:VTIMEZONE
TZID:Asia/Tokyo
BEGIN:STANDARD
TZOFFSETFROM:+0900
TZOFFSETTO:+0900
TZNAME:JST
DTSTART:20210101T000000
END:STANDARD
END:VTIMEZONE
BEGIN:VEVENT
DTSTART;TZID=Asia/Tokyo:20210925T100000
DTEND;TZID=Asia/Tokyo:20210925T113000
DTSTAMP:20260424T143307
CREATED:20210722T014755Z
LAST-MODIFIED:20210911T021057Z
UID:920-1632564000-1632569400@yukokan.miyabunkyo.com
SUMMARY:◆埋蔵文化財（考古学）関連講座④（11/27へ延期）
DESCRIPTION:宮崎市内の遺跡の発掘調査の成果に関する講座です。 \n日程の詳細はこちらをご覧ください。 \n※新型コロナウイルス感染症に関する臨時休館に伴い、　１１月２７日（土）へ延期いたします。 \n＊＊＊＊＊＊＊＊＊＊＊＊＊＊＊＊＊＊＊＊＊＊＊＊＊＊＊＊＊＊＊＊＊＊＊＊＊＊＊＊＊＊＊＊＊ \n●日　時：令和３年９月２５日（土）１０：００～１１：３０●演　題：『「交流」が語る宮崎の弥生文化』●講　師：河野　裕次 氏（宮崎市文化財課）●対　象：一般●定　員：５０名●参加費：無 料 ●備　考：新型コロナウイルス感染症に関する状況によっては開催中止・延期となる可能性があります。 \nお申し込みについて\n●定員を超える場合は抽選となります。●電話（0985-47-8001）・FAX（0985-47-8202）・メールフォームからお申し込みください。●お申し込み受付は９月１１日（土）までです。
URL:https://yukokan.miyabunkyo.com/tribe_events/%e2%97%86%e5%9f%8b%e8%94%b5%e6%96%87%e5%8c%96%e8%b2%a1%ef%bc%88%e8%80%83%e5%8f%a4%e5%ad%a6%ef%bc%89%e9%96%a2%e9%80%a3%e8%ac%9b%e5%ba%a7%e2%91%a3/
CATEGORIES:歴史文化講座
END:VEVENT
END:VCALENDAR