BEGIN:VCALENDAR
VERSION:2.0
PRODID:-//生目の杜 遊古館 - ECPv5.8.1//NONSGML v1.0//EN
CALSCALE:GREGORIAN
METHOD:PUBLISH
X-WR-CALNAME:生目の杜 遊古館
X-ORIGINAL-URL:https://yukokan.miyabunkyo.com
X-WR-CALDESC:生目の杜 遊古館 のイベント
BEGIN:VTIMEZONE
TZID:Asia/Tokyo
BEGIN:STANDARD
TZOFFSETFROM:+0900
TZOFFSETTO:+0900
TZNAME:JST
DTSTART:20210101T000000
END:STANDARD
END:VTIMEZONE
BEGIN:VEVENT
DTSTART;TZID=Asia/Tokyo:20210904T100000
DTEND;TZID=Asia/Tokyo:20210904T113000
DTSTAMP:20260424T143302
CREATED:20210722T014236Z
LAST-MODIFIED:20210916T015323Z
UID:919-1630749600-1630755000@yukokan.miyabunkyo.com
SUMMARY:◆歴史文化講座④（1/22へ延期）
DESCRIPTION:宮崎の歴史や文化を中心に様々なテーマで講座を行います。 \n日程の詳細はこちらをご覧ください。 \n※新型コロナウイルス感染症に関する臨時休館に伴い、　開催を1/22（土）に延期します。 \n＊＊＊＊＊＊＊＊＊＊＊＊＊＊＊＊＊＊＊＊＊＊＊＊＊＊＊＊＊＊＊＊＊＊＊＊＊＊＊＊＊＊＊＊＊ \n●日　時：令和３年９月４日（土）１０：００～１１：３０\n●演　題：「宮崎の戦争　日米資料で解き明かす宮崎の戦史」\n●講　師：稲田 哲也 氏\n●対　象：一般\n●定　員：５０名\n●参加費：無 料\n●備　考：新型コロナウイルス感染症に関する状況によっては開催中止・延期となる可能性があります。 \nお申し込みについて\n●定員を超える場合は抽選となります。\n●電話（0985-47-8001）・FAX（0985-47-8202）・メールフォームからお申し込みください。\n●お申し込み受付は８月２１日（土）までです。
URL:https://yukokan.miyabunkyo.com/tribe_events/%e2%97%86%e6%ad%b4%e5%8f%b2%e6%96%87%e5%8c%96%e8%ac%9b%e5%ba%a7%e2%91%a3/
CATEGORIES:歴史文化講座
END:VEVENT
END:VCALENDAR