BEGIN:VCALENDAR
VERSION:2.0
PRODID:-//生目の杜 遊古館 - ECPv5.8.1//NONSGML v1.0//EN
CALSCALE:GREGORIAN
METHOD:PUBLISH
X-WR-CALNAME:生目の杜 遊古館
X-ORIGINAL-URL:https://yukokan.miyabunkyo.com
X-WR-CALDESC:生目の杜 遊古館 のイベント
BEGIN:VTIMEZONE
TZID:Asia/Tokyo
BEGIN:STANDARD
TZOFFSETFROM:+0900
TZOFFSETTO:+0900
TZNAME:JST
DTSTART:20210101T000000
END:STANDARD
END:VTIMEZONE
BEGIN:VEVENT
DTSTART;TZID=Asia/Tokyo:20210327T100000
DTEND;TZID=Asia/Tokyo:20210327T113000
DTSTAMP:20260425T005704
CREATED:20210307T053453Z
LAST-MODIFIED:20210307T063739Z
UID:685-1616839200-1616844600@yukokan.miyabunkyo.com
SUMMARY:♦ゆうこかん館長 歴史余話【補講】
DESCRIPTION:当館館長による、面白くてためになる歴史文化講座です。※９月５日（土）に開催した「ゆうこかん館長 歴史余話」の補講となります。 \n●日　時：令和３年３月２７日（土）１０：００～１１：３０\n●演　題：「江戸3百藩の軌跡～幕末維新編」\n●講　師：永井 淳生（当館館長）\n●対　象：一般\n●参加費：無 料 \nお申し込みについて\n●補講実施日の前日まで受け付けています。●既に９月５日（土）に受講された方につきましては、内容が重複いたしますので、お申し込みにご注意ください。 \n　
URL:https://yukokan.miyabunkyo.com/tribe_events/%e3%82%86%e3%81%86%e3%81%93%e3%81%8b%e3%82%93%e9%a4%a8%e9%95%b7-%e6%ad%b4%e5%8f%b2%e4%bd%99%e8%a9%b1%e3%80%90%e8%a3%9c%e8%ac%9b%e3%80%91/
CATEGORIES:歴史文化講座
END:VEVENT
END:VCALENDAR