BEGIN:VCALENDAR
VERSION:2.0
PRODID:-//生目の杜 遊古館 - ECPv5.8.1//NONSGML v1.0//EN
CALSCALE:GREGORIAN
METHOD:PUBLISH
X-WR-CALNAME:生目の杜 遊古館
X-ORIGINAL-URL:https://yukokan.miyabunkyo.com
X-WR-CALDESC:生目の杜 遊古館 のイベント
BEGIN:VTIMEZONE
TZID:Asia/Tokyo
BEGIN:STANDARD
TZOFFSETFROM:+0900
TZOFFSETTO:+0900
TZNAME:JST
DTSTART:20210101T000000
END:STANDARD
END:VTIMEZONE
BEGIN:VEVENT
DTSTART;TZID=Asia/Tokyo:20210321T100000
DTEND;TZID=Asia/Tokyo:20210321T113000
DTSTAMP:20260425T010811
CREATED:20210206T014230Z
LAST-MODIFIED:20210206T043021Z
UID:652-1616320800-1616326200@yukokan.miyabunkyo.com
SUMMARY:♦歴史文化講座⑤（2月6日からの延期開催）
DESCRIPTION:宮崎の歴史・民俗・文化財等について学ぶ講座です。 \n※２月６日（土）に開催予定でした講座の延期開催となります。　お申し込みされた方にはご郵送でもお知らせいたします。\n \n●日　時：令和３年３月２１日（日）１０：００～１１：３０\n●演　題：「日本書紀に見る神武天皇の物語」\n●講　師：大舘 真晴 氏（宮崎県立看護大学教授）\n●対　象：一般\n●定　員：５０名\n●参加費：無 料 \nお申し込みについて\n２月６日（土）開催分として、すでに受付を終了しています。
URL:https://yukokan.miyabunkyo.com/tribe_events/%e2%99%a6%e6%ad%b4%e5%8f%b2%e6%96%87%e5%8c%96%e8%ac%9b%e5%ba%a7%e2%91%a4%ef%bc%882%e6%9c%886%e6%97%a5%e3%81%ae%e5%bb%b6%e6%9c%9f%e9%96%8b%e5%82%ac%ef%bc%89/
CATEGORIES:歴史文化講座
END:VEVENT
END:VCALENDAR