BEGIN:VCALENDAR
VERSION:2.0
PRODID:-//生目の杜 遊古館 - ECPv5.8.1//NONSGML v1.0//EN
CALSCALE:GREGORIAN
METHOD:PUBLISH
X-WR-CALNAME:生目の杜 遊古館
X-ORIGINAL-URL:https://yukokan.miyabunkyo.com
X-WR-CALDESC:生目の杜 遊古館 のイベント
BEGIN:VTIMEZONE
TZID:Asia/Tokyo
BEGIN:STANDARD
TZOFFSETFROM:+0900
TZOFFSETTO:+0900
TZNAME:JST
DTSTART:20210101T000000
END:STANDARD
END:VTIMEZONE
BEGIN:VEVENT
DTSTART;TZID=Asia/Tokyo:20210206T100000
DTEND;TZID=Asia/Tokyo:20210206T113000
DTSTAMP:20260425T024950
CREATED:20201225T022443Z
LAST-MODIFIED:20210206T013657Z
UID:593-1612605600-1612611000@yukokan.miyabunkyo.com
SUMMARY:歴史文化講座⑤【開催延期】
DESCRIPTION:宮崎の歴史・民俗・文化財等について学ぶ講座です。 \n※新型コロナウイルス感染症の感染拡大防止のため、開催を延期いたします。　延期開催日は３月２１日（日）となります。　お申し込みされた方にはご郵送でもお知らせいたします。\n \n●日　時：令和３年２月６日（土）１０：００～１１：３０\n●演　題：「日本書紀に見る神武天皇の物語」\n●講　師：大舘 真晴 氏（宮崎県立看護大学教授）\n●対　象：一般\n●定　員：５０名\n●参加費：無 料 \nお申し込みについて\n●定員を超える場合は抽選となります。\n●電話（0985-47-8001）・FAX（0985-47-8202）・メールフォームからお申し込みください。\n●お申し込み受付は開催２週間前の土曜日（1月23日（土））までです。 \nなお、これからの令和２年度歴史文化講座の開催予定につきましては、こちらをご覧ください。
URL:https://yukokan.miyabunkyo.com/tribe_events/%e6%ad%b4%e5%8f%b2%e6%96%87%e5%8c%96%e8%ac%9b%e5%ba%a7%e2%91%a4/
CATEGORIES:歴史文化講座
END:VEVENT
END:VCALENDAR