BEGIN:VCALENDAR
VERSION:2.0
PRODID:-//生目の杜 遊古館 - ECPv5.8.1//NONSGML v1.0//EN
CALSCALE:GREGORIAN
METHOD:PUBLISH
X-WR-CALNAME:生目の杜 遊古館
X-ORIGINAL-URL:https://yukokan.miyabunkyo.com
X-WR-CALDESC:生目の杜 遊古館 のイベント
BEGIN:VTIMEZONE
TZID:Asia/Tokyo
BEGIN:STANDARD
TZOFFSETFROM:+0900
TZOFFSETTO:+0900
TZNAME:JST
DTSTART:20220101T000000
END:STANDARD
END:VTIMEZONE
BEGIN:VEVENT
DTSTART;VALUE=DATE:20220822
DTEND;VALUE=DATE:20220823
DTSTAMP:20260423T091055
CREATED:20220609T053720Z
LAST-MODIFIED:20220609T053721Z
UID:2300-1661126400-1661212799@yukokan.miyabunkyo.com
SUMMARY:休館日
DESCRIPTION:本日は休館日です。
URL:https://yukokan.miyabunkyo.com/tribe_events/%e4%bc%91%e9%a4%a8%e6%97%a5-103/
CATEGORIES:休館日
END:VEVENT
END:VCALENDAR