BEGIN:VCALENDAR
VERSION:2.0
PRODID:-//生目の杜 遊古館 - ECPv5.8.1//NONSGML v1.0//EN
CALSCALE:GREGORIAN
METHOD:PUBLISH
X-WR-CALNAME:生目の杜 遊古館
X-ORIGINAL-URL:https://yukokan.miyabunkyo.com
X-WR-CALDESC:生目の杜 遊古館 のイベント
BEGIN:VTIMEZONE
TZID:Asia/Tokyo
BEGIN:STANDARD
TZOFFSETFROM:+0900
TZOFFSETTO:+0900
TZNAME:JST
DTSTART:20210101T000000
END:STANDARD
END:VTIMEZONE
BEGIN:VEVENT
DTSTART;VALUE=DATE:20211229
DTEND;VALUE=DATE:20220104
DTSTAMP:20260423T205907
CREATED:20211031T021607Z
LAST-MODIFIED:20211031T021607Z
UID:1623-1640736000-1641254399@yukokan.miyabunkyo.com
SUMMARY:休館日
DESCRIPTION:令和３年１２月２９日（水）～令和４年１月３日（月）は年末年始の休館日となっております。 \n次の開館日は令和４年１月４日（火）となっております。
URL:https://yukokan.miyabunkyo.com/tribe_events/%e4%bc%91%e9%a4%a8%e6%97%a5-70/
CATEGORIES:休館日
END:VEVENT
END:VCALENDAR