BEGIN:VCALENDAR
VERSION:2.0
PRODID:-//生目の杜 遊古館 - ECPv5.8.1//NONSGML v1.0//EN
CALSCALE:GREGORIAN
METHOD:PUBLISH
X-WR-CALNAME:生目の杜 遊古館
X-ORIGINAL-URL:https://yukokan.miyabunkyo.com
X-WR-CALDESC:生目の杜 遊古館 のイベント
BEGIN:VTIMEZONE
TZID:Asia/Tokyo
BEGIN:STANDARD
TZOFFSETFROM:+0900
TZOFFSETTO:+0900
TZNAME:JST
DTSTART:20200101T000000
END:STANDARD
END:VTIMEZONE
BEGIN:VEVENT
DTSTART;VALUE=DATE:20200507
DTEND;VALUE=DATE:20200518
DTSTAMP:20260425T055630
CREATED:20200402T102755Z
LAST-MODIFIED:20200515T235750Z
UID:244-1588809600-1589759999@yukokan.miyabunkyo.com
SUMMARY:臨時休館日
DESCRIPTION:新型コロナウイルスの感染拡大防止のため、５月７日（木）から５月１７日（日）まで臨時休館とします。\n※５月１８日（月）は通常の休館日となります。 \n御理解のほどよろしくお願いします。\n新たな情報につきましては、当ホームページにて随時お知らせいたします。
URL:https://yukokan.miyabunkyo.com/tribe_events/%e4%bc%91%e9%a4%a8%e6%97%a5-6/
CATEGORIES:休館日
END:VEVENT
END:VCALENDAR