BEGIN:VCALENDAR
VERSION:2.0
PRODID:-//生目の杜 遊古館 - ECPv5.8.1//NONSGML v1.0//EN
CALSCALE:GREGORIAN
METHOD:PUBLISH
X-WR-CALNAME:生目の杜 遊古館
X-ORIGINAL-URL:https://yukokan.miyabunkyo.com
X-WR-CALDESC:生目の杜 遊古館 のイベント
BEGIN:VTIMEZONE
TZID:Asia/Tokyo
BEGIN:STANDARD
TZOFFSETFROM:+0900
TZOFFSETTO:+0900
TZNAME:JST
DTSTART:20200101T000000
END:STANDARD
END:VTIMEZONE
BEGIN:VEVENT
DTSTART;VALUE=DATE:20200421
DTEND;VALUE=DATE:20200507
DTSTAMP:20260425T053859
CREATED:20200418T020049Z
LAST-MODIFIED:20200418T020049Z
UID:275-1587427200-1588809599@yukokan.miyabunkyo.com
SUMMARY:臨時休館日
DESCRIPTION:新型コロナウイルスの感染拡大防止のため、４月２１日（火）から５月６日（水）まで臨時休館とします。\n御理解のほどよろしくお願いします。\n新たな情報につきましては、当ホームページにて随時お知らせいたします。
URL:https://yukokan.miyabunkyo.com/tribe_events/%e8%87%a8%e6%99%82%e4%bc%91%e9%a4%a8%e6%97%a5/
CATEGORIES:休館日
END:VEVENT
END:VCALENDAR