BEGIN:VCALENDAR
VERSION:2.0
PRODID:-//生目の杜 遊古館 - ECPv5.8.1//NONSGML v1.0//EN
CALSCALE:GREGORIAN
METHOD:PUBLISH
X-WR-CALNAME:生目の杜 遊古館
X-ORIGINAL-URL:https://yukokan.miyabunkyo.com
X-WR-CALDESC:生目の杜 遊古館 のイベント
BEGIN:VTIMEZONE
TZID:Asia/Tokyo
BEGIN:STANDARD
TZOFFSETFROM:+0900
TZOFFSETTO:+0900
TZNAME:JST
DTSTART:20230101T000000
END:STANDARD
END:VTIMEZONE
BEGIN:VEVENT
DTSTART;VALUE=DATE:20231203
DTEND;VALUE=DATE:20231204
DTSTAMP:20260424T051802
CREATED:20231021T002826Z
LAST-MODIFIED:20231021T002826Z
UID:3954-1701561600-1701647999@yukokan.miyabunkyo.com
SUMMARY:◆企画展「いろんなカタチ！」最終日
DESCRIPTION:本日企画展「いろんなカタチ！」最終日となります。
URL:https://yukokan.miyabunkyo.com/tribe_events/%e2%97%86%e4%bc%81%e7%94%bb%e5%b1%95%e3%80%8c%e3%81%84%e3%82%8d%e3%82%93%e3%81%aa%e3%82%ab%e3%82%bf%e3%83%81%ef%bc%81%e3%80%8d%e6%9c%80%e7%b5%82%e6%97%a5/
CATEGORIES:企画展
END:VEVENT
END:VCALENDAR